BEGIN:VCALENDAR
VERSION:2.0
PRODID:-//spbstu.ru//ical//RU
NAME:Расписание группы в3733801/50001
X-WR-CALNAME:Расписание группы в3733801/50001
TIMEZONE-ID:Europe/Moscow
X-WR-TIMEZONE:Europe/Moscow
BEGIN:VEVENT
UID:dr5a@192.168.245.71:3006
SEQUENCE:0
DTSTAMP:20260421T141720Z
DTSTART:20260330T153000Z
DTEND:20260330T170000Z
SUMMARY:Мировая экономика
LOCATION:DL Дистанционно
END:VEVENT
BEGIN:VEVENT
UID:e54m@192.168.245.71:3006
SEQUENCE:0
DTSTAMP:20260421T141720Z
DTSTART:20260330T171500Z
DTEND:20260330T184500Z
SUMMARY:Мировая экономика
LOCATION:DL Дистанционно
END:VEVENT
BEGIN:VEVENT
UID:fcvs@192.168.245.71:3006
SEQUENCE:0
DTSTAMP:20260421T141720Z
DTSTART:20260331T153000Z
DTEND:20260331T170000Z
SUMMARY:Высшая математика
LOCATION:DL Дистанционно
END:VEVENT
BEGIN:VEVENT
UID:gszj@192.168.245.71:3006
SEQUENCE:0
DTSTAMP:20260421T141720Z
DTSTART:20260331T171500Z
DTEND:20260331T184500Z
SUMMARY:Высшая математика
LOCATION:DL Дистанционно
END:VEVENT
BEGIN:VEVENT
UID:wc4r@192.168.245.71:3006
SEQUENCE:0
DTSTAMP:20260421T141720Z
DTSTART:20260401T153000Z
DTEND:20260401T170000Z
SUMMARY:История России
LOCATION:DL Дистанционно
END:VEVENT
BEGIN:VEVENT
UID:njfe@192.168.245.71:3006
SEQUENCE:0
DTSTAMP:20260421T141720Z
DTSTART:20260401T171500Z
DTEND:20260401T184500Z
SUMMARY:История России
LOCATION:DL Дистанционно
END:VEVENT
BEGIN:VEVENT
UID:erlo@192.168.245.71:3006
SEQUENCE:0
DTSTAMP:20260421T141720Z
DTSTART:20260402T153000Z
DTEND:20260402T170000Z
SUMMARY:Информационные системы и технологии
LOCATION:DL Дистанционно
END:VEVENT
BEGIN:VEVENT
UID:8v7h@192.168.245.71:3006
SEQUENCE:0
DTSTAMP:20260421T141720Z
DTSTART:20260402T171500Z
DTEND:20260402T184500Z
SUMMARY:Информационные системы и технологии
LOCATION:DL Дистанционно
END:VEVENT
BEGIN:VEVENT
UID:lysg@192.168.245.71:3006
SEQUENCE:0
DTSTAMP:20260421T141720Z
DTSTART:20260403T153000Z
DTEND:20260403T170000Z
SUMMARY:Макроэкономика
LOCATION:DL Дистанционно
END:VEVENT
BEGIN:VEVENT
UID:od8m@192.168.245.71:3006
SEQUENCE:0
DTSTAMP:20260421T141720Z
DTSTART:20260403T171500Z
DTEND:20260403T184500Z
SUMMARY:Макроэкономика
LOCATION:DL Дистанционно
END:VEVENT
END:VCALENDAR