BEGIN:VCALENDAR
VERSION:2.0
PRODID:-//spbstu.ru//ical//RU
NAME:Расписание группы в3743802/45001
X-WR-CALNAME:Расписание группы в3743802/45001
TIMEZONE-ID:Europe/Moscow
X-WR-TIMEZONE:Europe/Moscow
BEGIN:VEVENT
UID:od7b@192.168.245.71:3006
SEQUENCE:0
DTSTAMP:20260424T084341Z
DTSTART:20251119T153000Z
DTEND:20251119T170000Z
SUMMARY:НИР (рассредоточенная)\, часть 3
LOCATION:50 уч.к 1422
END:VEVENT
BEGIN:VEVENT
UID:3m5o@192.168.245.71:3006
SEQUENCE:0
DTSTAMP:20260424T084341Z
DTSTART:20251119T171500Z
DTEND:20251119T184500Z
SUMMARY:НИР (рассредоточенная)\, часть 3
LOCATION:50 уч.к 1422
END:VEVENT
BEGIN:VEVENT
UID:4mjl@192.168.245.71:3006
SEQUENCE:0
DTSTAMP:20260424T084341Z
DTSTART:20251120T153000Z
DTEND:20251120T170000Z
SUMMARY:Архитектура предприятия
LOCATION:DL Дистанционно
END:VEVENT
BEGIN:VEVENT
UID:04rc@192.168.245.71:3006
SEQUENCE:0
DTSTAMP:20260424T084341Z
DTSTART:20251120T171500Z
DTEND:20251120T184500Z
SUMMARY:Архитектура предприятия
LOCATION:DL Дистанционно
END:VEVENT
BEGIN:VEVENT
UID:ybth@192.168.245.71:3006
SEQUENCE:0
DTSTAMP:20260424T084341Z
DTSTART:20251121T153000Z
DTEND:20251121T170000Z
SUMMARY:Автоматизация бизнес-процессов
LOCATION:50 уч.к 1210
END:VEVENT
END:VCALENDAR