BEGIN:VCALENDAR
VERSION:2.0
PRODID:-//spbstu.ru//ical//RU
NAME:Расписание группы в3743802/45001
X-WR-CALNAME:Расписание группы в3743802/45001
TIMEZONE-ID:Europe/Moscow
X-WR-TIMEZONE:Europe/Moscow
BEGIN:VEVENT
UID:s5v7@192.168.245.71:3006
SEQUENCE:0
DTSTAMP:20260424T050449Z
DTSTART:20251126T160000Z
DTEND:20251126T174000Z
SUMMARY:Автоматизация бизнес-процессов
LOCATION:DL Дистанционно
END:VEVENT
BEGIN:VEVENT
UID:3cvl@192.168.245.71:3006
SEQUENCE:0
DTSTAMP:20260424T050449Z
DTSTART:20251128T153000Z
DTEND:20251128T170000Z
SUMMARY:Цифровой маркетинг
LOCATION:DL Дистанционно
END:VEVENT
BEGIN:VEVENT
UID:e0t3@192.168.245.71:3006
SEQUENCE:0
DTSTAMP:20260424T050449Z
DTSTART:20251128T171500Z
DTEND:20251128T184500Z
SUMMARY:Цифровой маркетинг
LOCATION:DL Дистанционно
END:VEVENT
END:VCALENDAR