BEGIN:VCALENDAR
VERSION:2.0
PRODID:-//spbstu.ru//ical//RU
NAME:Расписание группы в3743802/45001
X-WR-CALNAME:Расписание группы в3743802/45001
TIMEZONE-ID:Europe/Moscow
X-WR-TIMEZONE:Europe/Moscow
BEGIN:VEVENT
UID:4gah@192.168.245.71:3006
SEQUENCE:0
DTSTAMP:20260422T134728Z
DTSTART:20260211T153000Z
DTEND:20260211T170000Z
SUMMARY:Мобильный и электронный бизнес
LOCATION:50 уч.к 1336
END:VEVENT
BEGIN:VEVENT
UID:43rb@192.168.245.71:3006
SEQUENCE:0
DTSTAMP:20260422T134728Z
DTSTART:20260211T171500Z
DTEND:20260211T184500Z
SUMMARY:Мобильный и электронный бизнес
LOCATION:50 уч.к 1336
END:VEVENT
BEGIN:VEVENT
UID:4l8c@192.168.245.71:3006
SEQUENCE:0
DTSTAMP:20260422T134728Z
DTSTART:20260212T153000Z
DTEND:20260212T170000Z
SUMMARY:Корпоративные финансы
LOCATION:50 уч.к 1328
END:VEVENT
BEGIN:VEVENT
UID:ls6q@192.168.245.71:3006
SEQUENCE:0
DTSTAMP:20260422T134728Z
DTSTART:20260212T171500Z
DTEND:20260212T184500Z
SUMMARY:Корпоративные финансы
LOCATION:50 уч.к 1328
END:VEVENT
END:VCALENDAR