BEGIN:VCALENDAR
VERSION:2.0
PRODID:-//spbstu.ru//ical//RU
NAME:Расписание группы в3743802/45001
X-WR-CALNAME:Расписание группы в3743802/45001
TIMEZONE-ID:Europe/Moscow
X-WR-TIMEZONE:Europe/Moscow
BEGIN:VEVENT
UID:ib7l@192.168.245.71:3006
SEQUENCE:0
DTSTAMP:20260421T200841Z
DTSTART:20260519T153000Z
DTEND:20260519T170000Z
SUMMARY:Корпоративные финансы
LOCATION:50 уч.к 1223
END:VEVENT
BEGIN:VEVENT
UID:ksgb@192.168.245.71:3006
SEQUENCE:0
DTSTAMP:20260421T200841Z
DTSTART:20260519T171500Z
DTEND:20260519T184500Z
SUMMARY:Корпоративные финансы
LOCATION:50 уч.к 1223
END:VEVENT
END:VCALENDAR