BEGIN:VCALENDAR
VERSION:2.0
PRODID:-//spbstu.ru//ical//RU
NAME:Расписание группы в3743806/40101
X-WR-CALNAME:Расписание группы в3743806/40101
TIMEZONE-ID:Europe/Moscow
X-WR-TIMEZONE:Europe/Moscow
BEGIN:VEVENT
UID:thpd@192.168.245.71:3006
SEQUENCE:0
DTSTAMP:20260423T214015Z
DTSTART:20251224T153000Z
DTEND:20251224T170000Z
SUMMARY:Инвестиционный анализ
LOCATION:50 уч.к 1116
END:VEVENT
BEGIN:VEVENT
UID:iz77@192.168.245.71:3006
SEQUENCE:0
DTSTAMP:20260423T214015Z
DTSTART:20251224T171500Z
DTEND:20251224T184500Z
SUMMARY:Инвестиционный анализ
LOCATION:50 уч.к 1116
END:VEVENT
END:VCALENDAR