BEGIN:VCALENDAR
VERSION:2.0
PRODID:-//spbstu.ru//ical//RU
NAME:Расписание группы в3743806/40101
X-WR-CALNAME:Расписание группы в3743806/40101
TIMEZONE-ID:Europe/Moscow
X-WR-TIMEZONE:Europe/Moscow
BEGIN:VEVENT
UID:ibt7@192.168.245.71:3006
SEQUENCE:0
DTSTAMP:20260422T172722Z
DTSTART:20260216T153000Z
DTEND:20260216T170000Z
SUMMARY:Автоматизированный анализ естественной информации
LOCATION:50 уч.к 1103
END:VEVENT
BEGIN:VEVENT
UID:ylbd@192.168.245.71:3006
SEQUENCE:0
DTSTAMP:20260422T172722Z
DTSTART:20260216T171500Z
DTEND:20260216T184500Z
SUMMARY:Автоматизированный анализ естественной информации
LOCATION:50 уч.к 1103
END:VEVENT
BEGIN:VEVENT
UID:il9j@192.168.245.71:3006
SEQUENCE:0
DTSTAMP:20260422T172722Z
DTSTART:20260217T153000Z
DTEND:20260217T170000Z
SUMMARY:Анализ эффективности интернет-рекламы
LOCATION:50 уч.к 1225
END:VEVENT
BEGIN:VEVENT
UID:i4lx@192.168.245.71:3006
SEQUENCE:0
DTSTAMP:20260422T172722Z
DTSTART:20260217T171500Z
DTEND:20260217T184500Z
SUMMARY:Анализ эффективности интернет-рекламы
LOCATION:50 уч.к 1225
END:VEVENT
BEGIN:VEVENT
UID:lyhp@192.168.245.71:3006
SEQUENCE:0
DTSTAMP:20260422T172722Z
DTSTART:20260218T153000Z
DTEND:20260218T170000Z
SUMMARY:Брендинг интернет-проектов
LOCATION:50 уч.к 1225
END:VEVENT
BEGIN:VEVENT
UID:kdv9@192.168.245.71:3006
SEQUENCE:0
DTSTAMP:20260422T172722Z
DTSTART:20260218T171500Z
DTEND:20260218T184500Z
SUMMARY:Брендинг интернет-проектов
LOCATION:50 уч.к 1225
END:VEVENT
END:VCALENDAR