BEGIN:VCALENDAR
VERSION:2.0
PRODID:-//spbstu.ru//ical//RU
NAME:Расписание группы в3733801/30130
X-WR-CALNAME:Расписание группы в3733801/30130
TIMEZONE-ID:Europe/Moscow
X-WR-TIMEZONE:Europe/Moscow
BEGIN:VEVENT
UID:batq@192.168.245.71:3006
SEQUENCE:0
DTSTAMP:20260425T032447Z
DTSTART:20251124T153000Z
DTEND:20251124T170000Z
SUMMARY:Финансовый менеджмент
LOCATION:DL Дистанционно
END:VEVENT
BEGIN:VEVENT
UID:6jus@192.168.245.71:3006
SEQUENCE:0
DTSTAMP:20260425T032447Z
DTSTART:20251124T171500Z
DTEND:20251124T184500Z
SUMMARY:Финансовый менеджмент
LOCATION:DL Дистанционно
END:VEVENT
BEGIN:VEVENT
UID:c9og@192.168.245.71:3006
SEQUENCE:0
DTSTAMP:20260425T032447Z
DTSTART:20251125T153000Z
DTEND:20251125T170000Z
SUMMARY:Эконометрика
LOCATION:DL Дистанционно
END:VEVENT
BEGIN:VEVENT
UID:aw9h@192.168.245.71:3006
SEQUENCE:0
DTSTAMP:20260425T032447Z
DTSTART:20251125T171500Z
DTEND:20251125T184500Z
SUMMARY:Эконометрика
LOCATION:DL Дистанционно
END:VEVENT
BEGIN:VEVENT
UID:kdpg@192.168.245.71:3006
SEQUENCE:0
DTSTAMP:20260425T032447Z
DTSTART:20251126T153000Z
DTEND:20251126T170000Z
SUMMARY:Эконометрика
LOCATION:DL Дистанционно
END:VEVENT
BEGIN:VEVENT
UID:090x@192.168.245.71:3006
SEQUENCE:0
DTSTAMP:20260425T032447Z
DTSTART:20251126T171500Z
DTEND:20251126T184500Z
SUMMARY:Эконометрика
LOCATION:DL Дистанционно
END:VEVENT
BEGIN:VEVENT
UID:ausb@192.168.245.71:3006
SEQUENCE:0
DTSTAMP:20260425T032447Z
DTSTART:20251127T153000Z
DTEND:20251127T170000Z
SUMMARY:Инвестиционный анализ
LOCATION:DL Дистанционно
END:VEVENT
BEGIN:VEVENT
UID:u8r6@192.168.245.71:3006
SEQUENCE:0
DTSTAMP:20260425T032447Z
DTSTART:20251127T171500Z
DTEND:20251127T184500Z
SUMMARY:Инвестиционный анализ
LOCATION:DL Дистанционно
END:VEVENT
BEGIN:VEVENT
UID:0d39@192.168.245.71:3006
SEQUENCE:0
DTSTAMP:20260425T032447Z
DTSTART:20251128T153000Z
DTEND:20251128T170000Z
SUMMARY:Анализ финансово-хозяйственной деятельности предприятий
LOCATION:DL Дистанционно
END:VEVENT
BEGIN:VEVENT
UID:jbp7@192.168.245.71:3006
SEQUENCE:0
DTSTAMP:20260425T032447Z
DTSTART:20251128T171500Z
DTEND:20251128T184500Z
SUMMARY:Анализ финансово-хозяйственной деятельности предприятий
LOCATION:DL Дистанционно
END:VEVENT
END:VCALENDAR