BEGIN:VCALENDAR
VERSION:2.0
PRODID:-//spbstu.ru//ical//RU
NAME:Расписание группы в3733801/30130
X-WR-CALNAME:Расписание группы в3733801/30130
TIMEZONE-ID:Europe/Moscow
X-WR-TIMEZONE:Europe/Moscow
BEGIN:VEVENT
UID:0v1m@192.168.245.71:3006
SEQUENCE:0
DTSTAMP:20260424T155920Z
DTSTART:20251222T153000Z
DTEND:20251222T170000Z
SUMMARY:Эконометрика
LOCATION:DL Дистанционно
END:VEVENT
BEGIN:VEVENT
UID:qhst@192.168.245.71:3006
SEQUENCE:0
DTSTAMP:20260424T155920Z
DTSTART:20251223T153000Z
DTEND:20251223T160000Z
SUMMARY:Эконометрика
LOCATION:DL Дистанционно
END:VEVENT
BEGIN:VEVENT
UID:yk18@192.168.245.71:3006
SEQUENCE:0
DTSTAMP:20260424T155920Z
DTSTART:20251223T160100Z
DTEND:20251223T170000Z
SUMMARY:Эконометрика
LOCATION:DL Дистанционно
END:VEVENT
BEGIN:VEVENT
UID:gf4b@192.168.245.71:3006
SEQUENCE:0
DTSTAMP:20260424T155920Z
DTSTART:20251225T153000Z
DTEND:20251225T160000Z
SUMMARY:Внешнеэкономическая деятельность и логистические системы
LOCATION:DL Дистанционно
END:VEVENT
BEGIN:VEVENT
UID:lah9@192.168.245.71:3006
SEQUENCE:0
DTSTAMP:20260424T155920Z
DTSTART:20251225T160100Z
DTEND:20251225T180000Z
SUMMARY:Внешнеэкономическая деятельность и логистические системы
LOCATION:DL Дистанционно
END:VEVENT
END:VCALENDAR