BEGIN:VCALENDAR
VERSION:2.0
PRODID:-//spbstu.ru//ical//RU
NAME:Расписание группы в3733801/30130
X-WR-CALNAME:Расписание группы в3733801/30130
TIMEZONE-ID:Europe/Moscow
X-WR-TIMEZONE:Europe/Moscow
BEGIN:VEVENT
UID:bgll@192.168.245.71:3006
SEQUENCE:0
DTSTAMP:20260423T084656Z
DTSTART:20260202T153000Z
DTEND:20260202T170000Z
SUMMARY:Логистика предприятия
LOCATION:DL Дистанционно
END:VEVENT
BEGIN:VEVENT
UID:ge7q@192.168.245.71:3006
SEQUENCE:0
DTSTAMP:20260423T084656Z
DTSTART:20260202T171500Z
DTEND:20260202T184500Z
SUMMARY:Логистика предприятия
LOCATION:DL Дистанционно
END:VEVENT
BEGIN:VEVENT
UID:l4av@192.168.245.71:3006
SEQUENCE:0
DTSTAMP:20260423T084656Z
DTSTART:20260203T153000Z
DTEND:20260203T170000Z
SUMMARY:Контроллинг
LOCATION:DL Дистанционно
END:VEVENT
BEGIN:VEVENT
UID:seap@192.168.245.71:3006
SEQUENCE:0
DTSTAMP:20260423T084656Z
DTSTART:20260203T171500Z
DTEND:20260203T184500Z
SUMMARY:Контроллинг
LOCATION:DL Дистанционно
END:VEVENT
BEGIN:VEVENT
UID:ynkc@192.168.245.71:3006
SEQUENCE:0
DTSTAMP:20260423T084656Z
DTSTART:20260205T143000Z
DTEND:20260205T154000Z
SUMMARY:Научно-исследовательская работа
LOCATION:DL Дистанционно
END:VEVENT
BEGIN:VEVENT
UID:3nj7@192.168.245.71:3006
SEQUENCE:0
DTSTAMP:20260423T084656Z
DTSTART:20260205T153000Z
DTEND:20260205T170000Z
SUMMARY:Оценка и управление стоимостью бизнеса
LOCATION:DL Дистанционно
END:VEVENT
BEGIN:VEVENT
UID:q4ph@192.168.245.71:3006
SEQUENCE:0
DTSTAMP:20260423T084656Z
DTSTART:20260205T171500Z
DTEND:20260205T184500Z
SUMMARY:Контроллинг
LOCATION:DL Дистанционно
END:VEVENT
BEGIN:VEVENT
UID:eel4@192.168.245.71:3006
SEQUENCE:0
DTSTAMP:20260423T084656Z
DTSTART:20260206T153000Z
DTEND:20260206T170000Z
SUMMARY:Оценка и управление стоимостью бизнеса
LOCATION:DL Дистанционно
END:VEVENT
BEGIN:VEVENT
UID:st5n@192.168.245.71:3006
SEQUENCE:0
DTSTAMP:20260423T084656Z
DTSTART:20260206T171500Z
DTEND:20260206T184500Z
SUMMARY:Оценка и управление стоимостью бизнеса
LOCATION:DL Дистанционно
END:VEVENT
END:VCALENDAR