BEGIN:VCALENDAR
VERSION:2.0
PRODID:-//spbstu.ru//ical//RU
NAME:Расписание группы в3733801/30131
X-WR-CALNAME:Расписание группы в3733801/30131
TIMEZONE-ID:Europe/Moscow
X-WR-TIMEZONE:Europe/Moscow
BEGIN:VEVENT
UID:xhri@192.168.245.71:3006
SEQUENCE:0
DTSTAMP:20260423T180033Z
DTSTART:20251223T153000Z
DTEND:20251223T160000Z
SUMMARY:Анализ финансово-хозяйственной деятельности предприятий
LOCATION:DL Дистанционно
END:VEVENT
BEGIN:VEVENT
UID:p9wc@192.168.245.71:3006
SEQUENCE:0
DTSTAMP:20260423T180033Z
DTSTART:20251223T160100Z
DTEND:20251223T170000Z
SUMMARY:Анализ финансово-хозяйственной деятельности предприятий
LOCATION:DL Дистанционно
END:VEVENT
BEGIN:VEVENT
UID:81w3@192.168.245.71:3006
SEQUENCE:0
DTSTAMP:20260423T180033Z
DTSTART:20251225T153000Z
DTEND:20251225T170000Z
SUMMARY:Финансовый менеджмент
LOCATION:DL Дистанционно
END:VEVENT
END:VCALENDAR