BEGIN:VCALENDAR
VERSION:2.0
PRODID:-//spbstu.ru//ical//RU
NAME:Расписание группы в3733801/30131
X-WR-CALNAME:Расписание группы в3733801/30131
TIMEZONE-ID:Europe/Moscow
X-WR-TIMEZONE:Europe/Moscow
BEGIN:VEVENT
UID:7rh5@192.168.245.71:3006
SEQUENCE:0
DTSTAMP:20260423T041757Z
DTSTART:20260119T153000Z
DTEND:20260119T160000Z
SUMMARY:Иностранный язык. Профессионально-ориентированный курс
LOCATION:DL Дистанционно
END:VEVENT
BEGIN:VEVENT
UID:cy3d@192.168.245.71:3006
SEQUENCE:0
DTSTAMP:20260423T041757Z
DTSTART:20260119T160100Z
DTEND:20260119T170000Z
SUMMARY:Иностранный язык. Профессионально-ориентированный курс
LOCATION:DL Дистанционно
END:VEVENT
END:VCALENDAR