BEGIN:VCALENDAR
VERSION:2.0
PRODID:-//spbstu.ru//ical//RU
NAME:Расписание группы в3733801/30131
X-WR-CALNAME:Расписание группы в3733801/30131
TIMEZONE-ID:Europe/Moscow
X-WR-TIMEZONE:Europe/Moscow
BEGIN:VEVENT
UID:ogis@192.168.245.71:3006
SEQUENCE:0
DTSTAMP:20260422T111002Z
DTSTART:20260311T153000Z
DTEND:20260311T170000Z
SUMMARY:Анализ финансово-хозяйственной деятельности предприятий
LOCATION:DL Дистанционно
END:VEVENT
BEGIN:VEVENT
UID:zy5j@192.168.245.71:3006
SEQUENCE:0
DTSTAMP:20260422T111002Z
DTSTART:20260311T171500Z
DTEND:20260311T184500Z
SUMMARY:Анализ финансово-хозяйственной деятельности предприятий
LOCATION:DL Дистанционно
END:VEVENT
BEGIN:VEVENT
UID:za2b@192.168.245.71:3006
SEQUENCE:0
DTSTAMP:20260422T111002Z
DTSTART:20260312T153000Z
DTEND:20260312T170000Z
SUMMARY:Производственно-технологические комплексы предприятия
LOCATION:DL Дистанционно
END:VEVENT
BEGIN:VEVENT
UID:gm50@192.168.245.71:3006
SEQUENCE:0
DTSTAMP:20260422T111002Z
DTSTART:20260312T171500Z
DTEND:20260312T184500Z
SUMMARY:Производственно-технологические комплексы предприятия
LOCATION:DL Дистанционно
END:VEVENT
BEGIN:VEVENT
UID:kv0r@192.168.245.71:3006
SEQUENCE:0
DTSTAMP:20260422T111002Z
DTSTART:20260313T153000Z
DTEND:20260313T170000Z
SUMMARY:Экономика труда
LOCATION:DL Дистанционно
END:VEVENT
BEGIN:VEVENT
UID:0sok@192.168.245.71:3006
SEQUENCE:0
DTSTAMP:20260422T111002Z
DTSTART:20260313T171500Z
DTEND:20260313T184500Z
SUMMARY:Экономика труда
LOCATION:DL Дистанционно
END:VEVENT
END:VCALENDAR