BEGIN:VCALENDAR
VERSION:2.0
PRODID:-//spbstu.ru//ical//RU
NAME:Расписание группы в3733801/30131
X-WR-CALNAME:Расписание группы в3733801/30131
TIMEZONE-ID:Europe/Moscow
X-WR-TIMEZONE:Europe/Moscow
BEGIN:VEVENT
UID:mnt8@192.168.245.71:3006
SEQUENCE:0
DTSTAMP:20260422T063821Z
DTSTART:20260511T153000Z
DTEND:20260511T170000Z
SUMMARY:Логистика предприятия
LOCATION:DL Дистанционно
END:VEVENT
BEGIN:VEVENT
UID:hc66@192.168.245.71:3006
SEQUENCE:0
DTSTAMP:20260422T063821Z
DTSTART:20260511T171500Z
DTEND:20260511T184500Z
SUMMARY:Логистика предприятия
LOCATION:DL Дистанционно
END:VEVENT
BEGIN:VEVENT
UID:oxu6@192.168.245.71:3006
SEQUENCE:0
DTSTAMP:20260422T063821Z
DTSTART:20260512T153000Z
DTEND:20260512T170000Z
SUMMARY:Контроллинг
LOCATION:DL Дистанционно
END:VEVENT
BEGIN:VEVENT
UID:0kra@192.168.245.71:3006
SEQUENCE:0
DTSTAMP:20260422T063821Z
DTSTART:20260512T171500Z
DTEND:20260512T184500Z
SUMMARY:Контроллинг
LOCATION:DL Дистанционно
END:VEVENT
BEGIN:VEVENT
UID:oghl@192.168.245.71:3006
SEQUENCE:0
DTSTAMP:20260422T063821Z
DTSTART:20260513T153000Z
DTEND:20260513T170000Z
SUMMARY:Анализ финансово-хозяйственной деятельности предприятий
LOCATION:DL Дистанционно
END:VEVENT
BEGIN:VEVENT
UID:cvjy@192.168.245.71:3006
SEQUENCE:0
DTSTAMP:20260422T063821Z
DTSTART:20260513T171500Z
DTEND:20260513T184500Z
SUMMARY:Анализ финансово-хозяйственной деятельности предприятий
LOCATION:DL Дистанционно
END:VEVENT
BEGIN:VEVENT
UID:tjel@192.168.245.71:3006
SEQUENCE:0
DTSTAMP:20260422T063821Z
DTSTART:20260514T153000Z
DTEND:20260514T170000Z
SUMMARY:Оценка и управление стоимостью бизнеса
LOCATION:DL Дистанционно
END:VEVENT
BEGIN:VEVENT
UID:knc7@192.168.245.71:3006
SEQUENCE:0
DTSTAMP:20260422T063821Z
DTSTART:20260514T171500Z
DTEND:20260514T184500Z
SUMMARY:Оценка и управление стоимостью бизнеса
LOCATION:DL Дистанционно
END:VEVENT
BEGIN:VEVENT
UID:xsdu@192.168.245.71:3006
SEQUENCE:0
DTSTAMP:20260422T063821Z
DTSTART:20260515T153000Z
DTEND:20260515T170000Z
SUMMARY:Оценка и управление стоимостью бизнеса
LOCATION:DL Дистанционно
END:VEVENT
BEGIN:VEVENT
UID:m55b@192.168.245.71:3006
SEQUENCE:0
DTSTAMP:20260422T063821Z
DTSTART:20260515T171500Z
DTEND:20260515T184500Z
SUMMARY:Оценка и управление стоимостью бизнеса
LOCATION:DL Дистанционно
END:VEVENT
END:VCALENDAR