BEGIN:VCALENDAR
VERSION:2.0
PRODID:-//spbstu.ru//ical//RU
NAME:Расписание группы в3733801/30131
X-WR-CALNAME:Расписание группы в3733801/30131
TIMEZONE-ID:Europe/Moscow
X-WR-TIMEZONE:Europe/Moscow
BEGIN:VEVENT
UID:079y@192.168.245.71:3006
SEQUENCE:0
DTSTAMP:20260422T191032Z
DTSTART:20260602T153000Z
DTEND:20260602T160000Z
SUMMARY:Контроллинг
LOCATION:50 уч.к 1317
END:VEVENT
BEGIN:VEVENT
UID:h48f@192.168.245.71:3006
SEQUENCE:0
DTSTAMP:20260422T191032Z
DTSTART:20260602T160100Z
DTEND:20260602T170000Z
SUMMARY:Контроллинг
LOCATION:50 уч.к 1317
END:VEVENT
BEGIN:VEVENT
UID:fjeg@192.168.245.71:3006
SEQUENCE:0
DTSTAMP:20260422T191032Z
DTSTART:20260603T144500Z
DTEND:20260603T160000Z
SUMMARY:Научно-исследовательская работа (рассредоточенная)
LOCATION:50 уч.к 1250
END:VEVENT
END:VCALENDAR