BEGIN:VCALENDAR
VERSION:2.0
PRODID:-//spbstu.ru//ical//RU
NAME:Расписание группы в3733801/30131
X-WR-CALNAME:Расписание группы в3733801/30131
TIMEZONE-ID:Europe/Moscow
X-WR-TIMEZONE:Europe/Moscow
BEGIN:VEVENT
UID:psmp@192.168.245.71:3006
SEQUENCE:0
DTSTAMP:20260422T190457Z
DTSTART:20260608T153000Z
DTEND:20260608T160000Z
SUMMARY:Экономика труда
LOCATION:50 уч.к 1232
END:VEVENT
BEGIN:VEVENT
UID:0sr7@192.168.245.71:3006
SEQUENCE:0
DTSTAMP:20260422T190457Z
DTSTART:20260608T160100Z
DTEND:20260608T170000Z
SUMMARY:Экономика труда
LOCATION:50 уч.к 1232
END:VEVENT
END:VCALENDAR