BEGIN:VCALENDAR
VERSION:2.0
PRODID:-//spbstu.ru//ical//RU
NAME:Расписание группы в3733802/30130
X-WR-CALNAME:Расписание группы в3733802/30130
TIMEZONE-ID:Europe/Moscow
X-WR-TIMEZONE:Europe/Moscow
BEGIN:VEVENT
UID:ol1v@192.168.245.71:3006
SEQUENCE:0
DTSTAMP:20260422T194608Z
DTSTART:20260120T153000Z
DTEND:20260120T160000Z
SUMMARY:Стратегический менеджмент
LOCATION:DL Дистанционно
END:VEVENT
BEGIN:VEVENT
UID:sik7@192.168.245.71:3006
SEQUENCE:0
DTSTAMP:20260422T194608Z
DTSTART:20260120T160100Z
DTEND:20260120T170000Z
SUMMARY:Стратегический менеджмент
LOCATION:DL Дистанционно
END:VEVENT
END:VCALENDAR