BEGIN:VCALENDAR
VERSION:2.0
PRODID:-//spbstu.ru//ical//RU
NAME:Расписание группы в3733802/30130
X-WR-CALNAME:Расписание группы в3733802/30130
TIMEZONE-ID:Europe/Moscow
X-WR-TIMEZONE:Europe/Moscow
BEGIN:VEVENT
UID:scn0@192.168.245.71:3006
SEQUENCE:0
DTSTAMP:20260421T155356Z
DTSTART:20260323T153000Z
DTEND:20260323T170000Z
SUMMARY:Производственный менеджмент
LOCATION:DL Дистанционно
END:VEVENT
BEGIN:VEVENT
UID:i84q@192.168.245.71:3006
SEQUENCE:0
DTSTAMP:20260421T155356Z
DTSTART:20260325T153000Z
DTEND:20260325T170000Z
SUMMARY:Основы корпоративного управления
LOCATION:DL Дистанционно
END:VEVENT
END:VCALENDAR