BEGIN:VCALENDAR
VERSION:2.0
PRODID:-//spbstu.ru//ical//RU
NAME:Расписание группы в3733802/30130
X-WR-CALNAME:Расписание группы в3733802/30130
TIMEZONE-ID:Europe/Moscow
X-WR-TIMEZONE:Europe/Moscow
BEGIN:VEVENT
UID:0sqd@192.168.245.71:3006
SEQUENCE:0
DTSTAMP:20260421T110356Z
DTSTART:20260429T153000Z
DTEND:20260429T170000Z
SUMMARY:Международные экономические отношения
LOCATION:DL Дистанционно
END:VEVENT
BEGIN:VEVENT
UID:usyb@192.168.245.71:3006
SEQUENCE:0
DTSTAMP:20260421T110356Z
DTSTART:20260429T171500Z
DTEND:20260429T184500Z
SUMMARY:Международные экономические отношения
LOCATION:DL Дистанционно
END:VEVENT
END:VCALENDAR