BEGIN:VCALENDAR
VERSION:2.0
PRODID:-//spbstu.ru//ical//RU
NAME:Расписание группы в3733802/30130
X-WR-CALNAME:Расписание группы в3733802/30130
TIMEZONE-ID:Europe/Moscow
X-WR-TIMEZONE:Europe/Moscow
BEGIN:VEVENT
UID:rgqq@192.168.245.71:3006
SEQUENCE:0
DTSTAMP:20260421T155354Z
DTSTART:20260523T070000Z
DTEND:20260523T084000Z
SUMMARY:Технологическая (проектно-технологическая) практика (рассредоточен
 ная)
LOCATION:DL Дистанционно
END:VEVENT
END:VCALENDAR