BEGIN:VCALENDAR
VERSION:2.0
PRODID:-//spbstu.ru//ical//RU
NAME:Расписание группы в3733802/30130
X-WR-CALNAME:Расписание группы в3733802/30130
TIMEZONE-ID:Europe/Moscow
X-WR-TIMEZONE:Europe/Moscow
BEGIN:VEVENT
UID:ujwc@192.168.245.71:3006
SEQUENCE:0
DTSTAMP:20260421T173331Z
DTSTART:20260525T171500Z
DTEND:20260525T184500Z
SUMMARY:Цифровые технологии бизнеса
LOCATION:50 уч.к 1204
END:VEVENT
BEGIN:VEVENT
UID:xgwj@192.168.245.71:3006
SEQUENCE:0
DTSTAMP:20260421T173331Z
DTSTART:20260527T153000Z
DTEND:20260527T170000Z
SUMMARY:Стратегический маркетинг
LOCATION:50 уч.к 1331
END:VEVENT
END:VCALENDAR