BEGIN:VCALENDAR
VERSION:2.0
PRODID:-//spbstu.ru//ical//RU
NAME:Расписание группы в3733802/30930
X-WR-CALNAME:Расписание группы в3733802/30930
TIMEZONE-ID:Europe/Moscow
X-WR-TIMEZONE:Europe/Moscow
BEGIN:VEVENT
UID:xfyq@192.168.245.71:3006
SEQUENCE:0
DTSTAMP:20260421T143949Z
DTSTART:20260420T153000Z
DTEND:20260420T170000Z
SUMMARY:Закупочная логистика
LOCATION:DL Дистанционно
END:VEVENT
BEGIN:VEVENT
UID:963o@192.168.245.71:3006
SEQUENCE:0
DTSTAMP:20260421T143949Z
DTSTART:20260420T171500Z
DTEND:20260420T184500Z
SUMMARY:Закупочная логистика
LOCATION:DL Дистанционно
END:VEVENT
BEGIN:VEVENT
UID:dx8z@192.168.245.71:3006
SEQUENCE:0
DTSTAMP:20260421T143949Z
DTSTART:20260422T153000Z
DTEND:20260422T170000Z
SUMMARY:Международные экономические отношения
LOCATION:DL Дистанционно
END:VEVENT
BEGIN:VEVENT
UID:f3aj@192.168.245.71:3006
SEQUENCE:0
DTSTAMP:20260421T143949Z
DTSTART:20260422T171500Z
DTEND:20260422T184500Z
SUMMARY:Информационные системы в логистике
LOCATION:DL Дистанционно
END:VEVENT
END:VCALENDAR