BEGIN:VCALENDAR
VERSION:2.0
PRODID:-//spbstu.ru//ical//RU
NAME:Расписание группы в3733802/30930
X-WR-CALNAME:Расписание группы в3733802/30930
TIMEZONE-ID:Europe/Moscow
X-WR-TIMEZONE:Europe/Moscow
BEGIN:VEVENT
UID:hkfo@192.168.245.71:3006
SEQUENCE:0
DTSTAMP:20260422T134903Z
DTSTART:20260609T153000Z
DTEND:20260609T160000Z
SUMMARY:Закупочная логистика
LOCATION:50 уч.к 1211
END:VEVENT
BEGIN:VEVENT
UID:1ko0@192.168.245.71:3006
SEQUENCE:0
DTSTAMP:20260422T134903Z
DTSTART:20260609T160100Z
DTEND:20260609T170000Z
SUMMARY:Закупочная логистика
LOCATION:50 уч.к 1211
END:VEVENT
END:VCALENDAR