BEGIN:VCALENDAR
VERSION:2.0
PRODID:-//spbstu.ru//ical//RU
NAME:Расписание группы в3743802/32601
X-WR-CALNAME:Расписание группы в3743802/32601
TIMEZONE-ID:Europe/Moscow
X-WR-TIMEZONE:Europe/Moscow
BEGIN:VEVENT
UID:0gc3@192.168.245.71:3006
SEQUENCE:0
DTSTAMP:20260424T043001Z
DTSTART:20260112T150000Z
DTEND:20260112T152500Z
SUMMARY:Маркетинговое управление ценообразованием
LOCATION:50 уч.к 1211
END:VEVENT
BEGIN:VEVENT
UID:hyvv@192.168.245.71:3006
SEQUENCE:0
DTSTAMP:20260424T043001Z
DTSTART:20260112T150100Z
DTEND:20260112T152500Z
SUMMARY:Корпоративные финансы
LOCATION:50 уч.к 1211
END:VEVENT
BEGIN:VEVENT
UID:lz9x@192.168.245.71:3006
SEQUENCE:0
DTSTAMP:20260424T043001Z
DTSTART:20260112T153000Z
DTEND:20260112T164000Z
SUMMARY:Преддипломная практика
LOCATION:50 уч.к 1317
END:VEVENT
BEGIN:VEVENT
UID:puhs@192.168.245.71:3006
SEQUENCE:0
DTSTAMP:20260424T043001Z
DTSTART:20260113T130000Z
DTEND:20260113T143000Z
SUMMARY:Оформление и представление результатов исследований
LOCATION:50 уч.к 1234
END:VEVENT
BEGIN:VEVENT
UID:o2zg@192.168.245.71:3006
SEQUENCE:0
DTSTAMP:20260424T043001Z
DTSTART:20260113T143100Z
DTEND:20260113T145500Z
SUMMARY:Информационные системы в маркетинге
LOCATION:50 уч.к 1205
END:VEVENT
BEGIN:VEVENT
UID:479d@192.168.245.71:3006
SEQUENCE:0
DTSTAMP:20260424T043001Z
DTSTART:20260113T143200Z
DTEND:20260113T145500Z
SUMMARY:НИР (конц.)
LOCATION:50 уч.к 1205
END:VEVENT
BEGIN:VEVENT
UID:mq89@192.168.245.71:3006
SEQUENCE:0
DTSTAMP:20260424T043001Z
DTSTART:20260113T150000Z
DTEND:20260113T163000Z
SUMMARY:Оформление и представление результатов исследований
LOCATION:50 уч.к 1234
END:VEVENT
BEGIN:VEVENT
UID:nc52@192.168.245.71:3006
SEQUENCE:0
DTSTAMP:20260424T043001Z
DTSTART:20260113T150100Z
DTEND:20260113T153000Z
SUMMARY:Практика по профилю профессиональной деятельности
LOCATION:50 уч.к 1234
END:VEVENT
BEGIN:VEVENT
UID:q88r@192.168.245.71:3006
SEQUENCE:0
DTSTAMP:20260424T043001Z
DTSTART:20260113T163100Z
DTEND:20260113T165500Z
SUMMARY:Интернет-предпринимательство
LOCATION:50 уч.к 1234
END:VEVENT
BEGIN:VEVENT
UID:gmti@192.168.245.71:3006
SEQUENCE:0
DTSTAMP:20260424T043001Z
DTSTART:20260113T170000Z
DTEND:20260113T184000Z
SUMMARY:Оформление и представление результатов исследований
LOCATION:50 уч.к 1234
END:VEVENT
BEGIN:VEVENT
UID:9nmk@192.168.245.71:3006
SEQUENCE:0
DTSTAMP:20260424T043001Z
DTSTART:20260114T130000Z
DTEND:20260114T144000Z
SUMMARY:Оформление и представление результатов исследований
LOCATION:50 уч.к 1251
END:VEVENT
BEGIN:VEVENT
UID:alp1@192.168.245.71:3006
SEQUENCE:0
DTSTAMP:20260424T043001Z
DTSTART:20260114T150000Z
DTEND:20260114T164000Z
SUMMARY:Оформление и представление результатов исследований
LOCATION:50 уч.к 1251
END:VEVENT
BEGIN:VEVENT
UID:njjt@192.168.245.71:3006
SEQUENCE:0
DTSTAMP:20260424T043001Z
DTSTART:20260114T170000Z
DTEND:20260114T184000Z
SUMMARY:Оформление и представление результатов исследований
LOCATION:50 уч.к 1251
END:VEVENT
BEGIN:VEVENT
UID:wxkn@192.168.245.71:3006
SEQUENCE:0
DTSTAMP:20260424T043001Z
DTSTART:20260115T130000Z
DTEND:20260115T144000Z
SUMMARY:Оформление и представление результатов исследований
LOCATION:50 уч.к 1423
END:VEVENT
BEGIN:VEVENT
UID:y8n2@192.168.245.71:3006
SEQUENCE:0
DTSTAMP:20260424T043001Z
DTSTART:20260115T150000Z
DTEND:20260115T164000Z
SUMMARY:Оформление и представление результатов исследований
LOCATION:50 уч.к 1423
END:VEVENT
BEGIN:VEVENT
UID:wiun@192.168.245.71:3006
SEQUENCE:0
DTSTAMP:20260424T043001Z
DTSTART:20260115T170000Z
DTEND:20260115T184000Z
SUMMARY:Оформление и представление результатов исследований
LOCATION:50 уч.к 1423
END:VEVENT
END:VCALENDAR