BEGIN:VCALENDAR
VERSION:2.0
PRODID:-//spbstu.ru//ical//RU
NAME:Расписание группы в3743804/30101
X-WR-CALNAME:Расписание группы в3743804/30101
TIMEZONE-ID:Europe/Moscow
X-WR-TIMEZONE:Europe/Moscow
BEGIN:VEVENT
UID:kloe@192.168.245.71:3006
SEQUENCE:0
DTSTAMP:20260425T105138Z
DTSTART:20260115T150000Z
DTEND:20260115T164000Z
SUMMARY:Преддипломная практика
LOCATION:50 уч.к 1422
END:VEVENT
BEGIN:VEVENT
UID:gjy1@192.168.245.71:3006
SEQUENCE:0
DTSTAMP:20260425T105138Z
DTSTART:20260116T120000Z
DTEND:20260116T124500Z
SUMMARY:Аналитическая практика
LOCATION:50 уч.к 1115
END:VEVENT
BEGIN:VEVENT
UID:il7a@192.168.245.71:3006
SEQUENCE:0
DTSTAMP:20260425T105138Z
DTSTART:20260116T120100Z
DTEND:20260116T124500Z
SUMMARY:Научно-исследовательская работа
LOCATION:50 уч.к 1115
END:VEVENT
BEGIN:VEVENT
UID:izhv@192.168.245.71:3006
SEQUENCE:0
DTSTAMP:20260425T105138Z
DTSTART:20260116T120200Z
DTEND:20260116T124500Z
SUMMARY:Экономика общественного сектора
LOCATION:50 уч.к 1217
END:VEVENT
BEGIN:VEVENT
UID:uqqa@192.168.245.71:3006
SEQUENCE:0
DTSTAMP:20260425T105138Z
DTSTART:20260116T130000Z
DTEND:20260116T134500Z
SUMMARY:Тренинг управления конфликтами в социальной сфере
LOCATION:50 уч.к 1250
END:VEVENT
BEGIN:VEVENT
UID:iv16@192.168.245.71:3006
SEQUENCE:0
DTSTAMP:20260425T105138Z
DTSTART:20260116T143000Z
DTEND:20260116T145500Z
SUMMARY:Образовательный форсайт
LOCATION:50 уч.к 1424
END:VEVENT
END:VCALENDAR