BEGIN:VCALENDAR
VERSION:2.0
PRODID:-//spbstu.ru//ical//RU
NAME:Расписание группы в3733804/20101
X-WR-CALNAME:Расписание группы в3733804/20101
TIMEZONE-ID:Europe/Moscow
X-WR-TIMEZONE:Europe/Moscow
BEGIN:VEVENT
UID:qcik@192.168.245.71:3006
SEQUENCE:0
DTSTAMP:20260421T110357Z
DTSTART:20260414T153000Z
DTEND:20260414T170000Z
SUMMARY:Государственная и региональная безопасность
LOCATION:DL Дистанционно
END:VEVENT
BEGIN:VEVENT
UID:pbsv@192.168.245.71:3006
SEQUENCE:0
DTSTAMP:20260421T110357Z
DTSTART:20260414T171500Z
DTEND:20260414T184500Z
SUMMARY:Государственная и региональная безопасность
LOCATION:DL Дистанционно
END:VEVENT
BEGIN:VEVENT
UID:xobv@192.168.245.71:3006
SEQUENCE:0
DTSTAMP:20260421T110357Z
DTSTART:20260415T153000Z
DTEND:20260415T170000Z
SUMMARY:Управление комплексным развитием территорий
LOCATION:DL Дистанционно
END:VEVENT
BEGIN:VEVENT
UID:7ou3@192.168.245.71:3006
SEQUENCE:0
DTSTAMP:20260421T110357Z
DTSTART:20260415T171500Z
DTEND:20260415T184500Z
SUMMARY:Управление комплексным развитием территорий
LOCATION:DL Дистанционно
END:VEVENT
BEGIN:VEVENT
UID:iknb@192.168.245.71:3006
SEQUENCE:0
DTSTAMP:20260421T110357Z
DTSTART:20260417T153000Z
DTEND:20260417T170000Z
SUMMARY:Анализ и оценка программ и отраслевых политик
LOCATION:DL Дистанционно
END:VEVENT
BEGIN:VEVENT
UID:ngka@192.168.245.71:3006
SEQUENCE:0
DTSTAMP:20260421T110357Z
DTSTART:20260417T171500Z
DTEND:20260417T184500Z
SUMMARY:Анализ и оценка программ и отраслевых политик
LOCATION:DL Дистанционно
END:VEVENT
END:VCALENDAR