BEGIN:VCALENDAR
VERSION:2.0
PRODID:-//spbstu.ru//ical//RU
NAME:Расписание группы в3733804/20101
X-WR-CALNAME:Расписание группы в3733804/20101
TIMEZONE-ID:Europe/Moscow
X-WR-TIMEZONE:Europe/Moscow
BEGIN:VEVENT
UID:cne8@192.168.245.71:3006
SEQUENCE:0
DTSTAMP:20260421T173332Z
DTSTART:20260518T153000Z
DTEND:20260518T170000Z
SUMMARY:Организация местного самоуправления и стратегическое планирование 
 развития муниципального образования
LOCATION:DL Дистанционно
END:VEVENT
BEGIN:VEVENT
UID:wunl@192.168.245.71:3006
SEQUENCE:0
DTSTAMP:20260421T173332Z
DTSTART:20260518T171500Z
DTEND:20260518T184500Z
SUMMARY:Организация местного самоуправления и стратегическое планирование 
 развития муниципального образования
LOCATION:DL Дистанционно
END:VEVENT
BEGIN:VEVENT
UID:vo0o@192.168.245.71:3006
SEQUENCE:0
DTSTAMP:20260421T173332Z
DTSTART:20260520T153000Z
DTEND:20260520T170000Z
SUMMARY:Налоговая политика государства
LOCATION:DL Дистанционно
END:VEVENT
BEGIN:VEVENT
UID:w3w2@192.168.245.71:3006
SEQUENCE:0
DTSTAMP:20260421T173332Z
DTSTART:20260520T171500Z
DTEND:20260520T184500Z
SUMMARY:Налоговая политика государства
LOCATION:DL Дистанционно
END:VEVENT
BEGIN:VEVENT
UID:hz9q@192.168.245.71:3006
SEQUENCE:0
DTSTAMP:20260421T173332Z
DTSTART:20260521T153000Z
DTEND:20260521T170000Z
SUMMARY:Тренинг формирования команд в органах государственного и муниципал
 ьного управления
LOCATION:DL Дистанционно
END:VEVENT
BEGIN:VEVENT
UID:fk4u@192.168.245.71:3006
SEQUENCE:0
DTSTAMP:20260421T173332Z
DTSTART:20260522T153000Z
DTEND:20260522T170000Z
SUMMARY:Организация контрольно-надзорной деятельности
LOCATION:DL Дистанционно
END:VEVENT
BEGIN:VEVENT
UID:jnou@192.168.245.71:3006
SEQUENCE:0
DTSTAMP:20260421T173332Z
DTSTART:20260522T171500Z
DTEND:20260522T184500Z
SUMMARY:Организация контрольно-надзорной деятельности
LOCATION:DL Дистанционно
END:VEVENT
BEGIN:VEVENT
UID:3zpu@192.168.245.71:3006
SEQUENCE:0
DTSTAMP:20260421T173332Z
DTSTART:20260523T090000Z
DTEND:20260523T104000Z
SUMMARY:Производственная практика/Научно-исследовательская работа
LOCATION:50 уч.к 1325
END:VEVENT
END:VCALENDAR