BEGIN:VCALENDAR
VERSION:2.0
PRODID:-//spbstu.ru//ical//RU
NAME:Расписание группы в3733804/20101
X-WR-CALNAME:Расписание группы в3733804/20101
TIMEZONE-ID:Europe/Moscow
X-WR-TIMEZONE:Europe/Moscow
BEGIN:VEVENT
UID:44e0@192.168.245.71:3006
SEQUENCE:0
DTSTAMP:20260421T210922Z
DTSTART:20260601T153000Z
DTEND:20260601T170000Z
SUMMARY:Налоговая политика государства
LOCATION:50 уч.к 1427
END:VEVENT
BEGIN:VEVENT
UID:0zod@192.168.245.71:3006
SEQUENCE:0
DTSTAMP:20260421T210922Z
DTSTART:20260603T153000Z
DTEND:20260603T170000Z
SUMMARY:Организация местного самоуправления и стратегическое планирование 
 развития муниципального образования
LOCATION:50 уч.к 1326
END:VEVENT
END:VCALENDAR