BEGIN:VCALENDAR
VERSION:2.0
PRODID:-//spbstu.ru//ical//RU
NAME:Расписание группы 3730105/50001
X-WR-CALNAME:Расписание группы 3730105/50001
TIMEZONE-ID:Europe/Moscow
X-WR-TIMEZONE:Europe/Moscow
BEGIN:VEVENT
UID:mgzx@192.168.245.71:3006
SEQUENCE:0
DTSTAMP:20260423T173955Z
DTSTART:20251124T050000Z
DTEND:20251124T064000Z
SUMMARY:Иностранный язык: Базовый курс
LOCATION:16 к. 401
END:VEVENT
BEGIN:VEVENT
UID:ocnx@192.168.245.71:3006
SEQUENCE:0
DTSTAMP:20260423T173955Z
DTSTART:20251124T070000Z
DTEND:20251124T084000Z
SUMMARY:Элективная физическая культура и спорт
LOCATION:СК Спортивный зал
END:VEVENT
BEGIN:VEVENT
UID:ppof@192.168.245.71:3006
SEQUENCE:0
DTSTAMP:20260423T173955Z
DTSTART:20251124T090000Z
DTEND:20251124T104000Z
SUMMARY:Микроэкономика
LOCATION:ГЗ 235
END:VEVENT
BEGIN:VEVENT
UID:njzy@192.168.245.71:3006
SEQUENCE:0
DTSTAMP:20260423T173955Z
DTSTART:20251124T110000Z
DTEND:20251124T124000Z
SUMMARY:Информационные системы и технологии
LOCATION:ГЗ 235
END:VEVENT
BEGIN:VEVENT
UID:g0f2@192.168.245.71:3006
SEQUENCE:0
DTSTAMP:20260423T173955Z
DTSTART:20251124T150000Z
DTEND:20251124T164000Z
SUMMARY:Иностранный язык: Русский язык как иностранный
LOCATION:16 к. 403
END:VEVENT
BEGIN:VEVENT
UID:c8rm@192.168.245.71:3006
SEQUENCE:0
DTSTAMP:20260423T173955Z
DTSTART:20251125T090000Z
DTEND:20251125T104000Z
SUMMARY:Высшая математика
LOCATION:50 уч.к 1338
END:VEVENT
BEGIN:VEVENT
UID:jsv0@192.168.245.71:3006
SEQUENCE:0
DTSTAMP:20260423T173955Z
DTSTART:20251125T110000Z
DTEND:20251125T124000Z
SUMMARY:Основы российской государственности
LOCATION:50 уч.к 1249
END:VEVENT
BEGIN:VEVENT
UID:uwaa@192.168.245.71:3006
SEQUENCE:0
DTSTAMP:20260423T173955Z
DTSTART:20251125T130000Z
DTEND:20251125T144000Z
SUMMARY:Введение в экономическую теорию
LOCATION:50 уч.к 1249
END:VEVENT
BEGIN:VEVENT
UID:lmtn@192.168.245.71:3006
SEQUENCE:0
DTSTAMP:20260423T173955Z
DTSTART:20251126T070000Z
DTEND:20251126T084000Z
SUMMARY:Информационные системы и технологии
LOCATION:50 уч.к 1110
END:VEVENT
BEGIN:VEVENT
UID:5q5q@192.168.245.71:3006
SEQUENCE:0
DTSTAMP:20260423T173955Z
DTSTART:20251126T090000Z
DTEND:20251126T104000Z
SUMMARY:Высшая математика
LOCATION:50 уч.к 1232
END:VEVENT
BEGIN:VEVENT
UID:wmh4@192.168.245.71:3006
SEQUENCE:0
DTSTAMP:20260423T173955Z
DTSTART:20251126T110000Z
DTEND:20251126T124000Z
SUMMARY:Микроэкономика
LOCATION:50 уч.к 1217
END:VEVENT
BEGIN:VEVENT
UID:e59t@192.168.245.71:3006
SEQUENCE:0
DTSTAMP:20260423T173955Z
DTSTART:20251126T130000Z
DTEND:20251126T144000Z
SUMMARY:Основы цифровых технологий
LOCATION:50 уч.к 1101
END:VEVENT
BEGIN:VEVENT
UID:ivsn@192.168.245.71:3006
SEQUENCE:0
DTSTAMP:20260423T173955Z
DTSTART:20251127T050000Z
DTEND:20251127T064000Z
SUMMARY:Элективная физическая культура и спорт
LOCATION:СК Спортивный зал
END:VEVENT
BEGIN:VEVENT
UID:ogmm@192.168.245.71:3006
SEQUENCE:0
DTSTAMP:20260423T173955Z
DTSTART:20251127T090000Z
DTEND:20251127T104000Z
SUMMARY:Введение в экономическую теорию
LOCATION:DL Дистанционно
END:VEVENT
BEGIN:VEVENT
UID:g8sm@192.168.245.71:3006
SEQUENCE:0
DTSTAMP:20260423T173955Z
DTSTART:20251127T130000Z
DTEND:20251127T144000Z
SUMMARY:Основы российской государственности
LOCATION:DL Дистанционно
END:VEVENT
BEGIN:VEVENT
UID:afbi@192.168.245.71:3006
SEQUENCE:0
DTSTAMP:20260423T173955Z
DTSTART:20251128T050000Z
DTEND:20251128T064000Z
SUMMARY:Иностранный язык: Русский язык как иностранный
LOCATION:16 к. 410
END:VEVENT
BEGIN:VEVENT
UID:x952@192.168.245.71:3006
SEQUENCE:0
DTSTAMP:20260423T173955Z
DTSTART:20251128T130000Z
DTEND:20251128T151500Z
SUMMARY:Русский язык как иностранный
LOCATION:15 к. 628
END:VEVENT
BEGIN:VEVENT
UID:ym2u@192.168.245.71:3006
SEQUENCE:0
DTSTAMP:20260423T173955Z
DTSTART:20251129T110000Z
DTEND:20251129T131500Z
SUMMARY:Русский язык как иностранный
LOCATION:15 к. 628
END:VEVENT
BEGIN:VEVENT
UID:86lv@192.168.245.71:3006
SEQUENCE:0
DTSTAMP:20260423T173955Z
DTSTART:20251129T130000Z
DTEND:20251129T151500Z
SUMMARY:Русский язык как иностранный
LOCATION:15 к. 318
END:VEVENT
BEGIN:VEVENT
UID:wnhu@192.168.245.71:3006
SEQUENCE:0
DTSTAMP:20260423T173955Z
DTSTART:20251129T130000Z
DTEND:20251129T151500Z
SUMMARY:Русский язык как иностранный
LOCATION:15 к. 303
END:VEVENT
END:VCALENDAR