BEGIN:VCALENDAR
VERSION:2.0
PRODID:-//spbstu.ru//ical//RU
NAME:Расписание группы 3730105/50001
X-WR-CALNAME:Расписание группы 3730105/50001
TIMEZONE-ID:Europe/Moscow
X-WR-TIMEZONE:Europe/Moscow
BEGIN:VEVENT
UID:zli8@192.168.245.71:3006
SEQUENCE:0
DTSTAMP:20260423T062613Z
DTSTART:20251215T050000Z
DTEND:20251215T064000Z
SUMMARY:Иностранный язык: Базовый курс
LOCATION:16 к. 401
END:VEVENT
BEGIN:VEVENT
UID:u351@192.168.245.71:3006
SEQUENCE:0
DTSTAMP:20260423T062613Z
DTSTART:20251215T090000Z
DTEND:20251215T104000Z
SUMMARY:Микроэкономика
LOCATION:ГЗ 235
END:VEVENT
BEGIN:VEVENT
UID:0kf9@192.168.245.71:3006
SEQUENCE:0
DTSTAMP:20260423T062613Z
DTSTART:20251215T150000Z
DTEND:20251215T164000Z
SUMMARY:Иностранный язык: Русский язык как иностранный
LOCATION:16 к. 403
END:VEVENT
BEGIN:VEVENT
UID:z94b@192.168.245.71:3006
SEQUENCE:0
DTSTAMP:20260423T062613Z
DTSTART:20251216T090000Z
DTEND:20251216T104000Z
SUMMARY:Высшая математика
LOCATION:50 уч.к 1432
END:VEVENT
BEGIN:VEVENT
UID:sxx7@192.168.245.71:3006
SEQUENCE:0
DTSTAMP:20260423T062613Z
DTSTART:20251216T110000Z
DTEND:20251216T124000Z
SUMMARY:Основы российской государственности
LOCATION:50 уч.к 1249
END:VEVENT
BEGIN:VEVENT
UID:nyae@192.168.245.71:3006
SEQUENCE:0
DTSTAMP:20260423T062613Z
DTSTART:20251217T070000Z
DTEND:20251217T084000Z
SUMMARY:Философия
LOCATION:50 уч.к 1250
END:VEVENT
BEGIN:VEVENT
UID:250l@192.168.245.71:3006
SEQUENCE:0
DTSTAMP:20260423T062613Z
DTSTART:20251217T130000Z
DTEND:20251217T144000Z
SUMMARY:Творческие семестры
LOCATION:DL Дистанционно
END:VEVENT
BEGIN:VEVENT
UID:xbl9@192.168.245.71:3006
SEQUENCE:0
DTSTAMP:20260423T062613Z
DTSTART:20251218T050000Z
DTEND:20251218T064000Z
SUMMARY:Элективная физическая культура и спорт
LOCATION:СК Спортивный зал
END:VEVENT
BEGIN:VEVENT
UID:gz0g@192.168.245.71:3006
SEQUENCE:0
DTSTAMP:20260423T062613Z
DTSTART:20251218T110000Z
DTEND:20251218T124000Z
SUMMARY:Введение в профессиональную деятельность
LOCATION:50 уч.к 1230
END:VEVENT
BEGIN:VEVENT
UID:2txr@192.168.245.71:3006
SEQUENCE:0
DTSTAMP:20260423T062613Z
DTSTART:20251219T090000Z
DTEND:20251219T104000Z
SUMMARY:Введение в экономическую теорию
LOCATION:50 уч.к 1425
END:VEVENT
BEGIN:VEVENT
UID:6tq2@192.168.245.71:3006
SEQUENCE:0
DTSTAMP:20260423T062613Z
DTSTART:20251220T130000Z
DTEND:20251220T144000Z
SUMMARY:Русский язык как иностранный
LOCATION:15 к. 628
END:VEVENT
END:VCALENDAR