BEGIN:VCALENDAR
VERSION:2.0
PRODID:-//spbstu.ru//ical//RU
NAME:Расписание группы 3730105/50001
X-WR-CALNAME:Расписание группы 3730105/50001
TIMEZONE-ID:Europe/Moscow
X-WR-TIMEZONE:Europe/Moscow
BEGIN:VEVENT
UID:v2rl@192.168.245.71:3006
SEQUENCE:0
DTSTAMP:20260424T131416Z
DTSTART:20250929T050000Z
DTEND:20250929T064000Z
SUMMARY:Иностранный язык: Базовый курс
LOCATION:16 к. 401
END:VEVENT
BEGIN:VEVENT
UID:1vka@192.168.245.71:3006
SEQUENCE:0
DTSTAMP:20260424T131416Z
DTSTART:20250929T070000Z
DTEND:20250929T084000Z
SUMMARY:Элективная физическая культура и спорт
LOCATION:СК Спортивный зал
END:VEVENT
BEGIN:VEVENT
UID:pb2a@192.168.245.71:3006
SEQUENCE:0
DTSTAMP:20260424T131416Z
DTSTART:20250929T090000Z
DTEND:20250929T104000Z
SUMMARY:Микроэкономика
LOCATION:ГЗ 235
END:VEVENT
BEGIN:VEVENT
UID:fgjc@192.168.245.71:3006
SEQUENCE:0
DTSTAMP:20260424T131416Z
DTSTART:20250929T110000Z
DTEND:20250929T124000Z
SUMMARY:Информационные системы и технологии
LOCATION:ГЗ 235
END:VEVENT
BEGIN:VEVENT
UID:uuhk@192.168.245.71:3006
SEQUENCE:0
DTSTAMP:20260424T131416Z
DTSTART:20250929T150000Z
DTEND:20250929T164000Z
SUMMARY:Иностранный язык: Русский язык как иностранный
LOCATION:16 к. 403
END:VEVENT
BEGIN:VEVENT
UID:h17u@192.168.245.71:3006
SEQUENCE:0
DTSTAMP:20260424T131416Z
DTSTART:20250930T070000Z
DTEND:20250930T084000Z
SUMMARY:Философия
LOCATION:50 уч.к 1230
END:VEVENT
BEGIN:VEVENT
UID:acxy@192.168.245.71:3006
SEQUENCE:0
DTSTAMP:20260424T131416Z
DTSTART:20250930T090000Z
DTEND:20250930T104000Z
SUMMARY:Высшая математика
LOCATION:50 уч.к 1105
END:VEVENT
BEGIN:VEVENT
UID:6x13@192.168.245.71:3006
SEQUENCE:0
DTSTAMP:20260424T131416Z
DTSTART:20250930T110000Z
DTEND:20250930T124000Z
SUMMARY:Основы российской государственности
LOCATION:50 уч.к 1249
END:VEVENT
BEGIN:VEVENT
UID:1348@192.168.245.71:3006
SEQUENCE:0
DTSTAMP:20260424T131416Z
DTSTART:20250930T130000Z
DTEND:20250930T144000Z
SUMMARY:Введение в экономическую теорию
LOCATION:50 уч.к 1249
END:VEVENT
BEGIN:VEVENT
UID:kf1d@192.168.245.71:3006
SEQUENCE:0
DTSTAMP:20260424T131416Z
DTSTART:20251001T070000Z
DTEND:20251001T084000Z
SUMMARY:Информационные системы и технологии
LOCATION:50 уч.к 1110
END:VEVENT
BEGIN:VEVENT
UID:m1el@192.168.245.71:3006
SEQUENCE:0
DTSTAMP:20260424T131416Z
DTSTART:20251001T090000Z
DTEND:20251001T104000Z
SUMMARY:Высшая математика
LOCATION:50 уч.к 1232
END:VEVENT
BEGIN:VEVENT
UID:kk5a@192.168.245.71:3006
SEQUENCE:0
DTSTAMP:20260424T131416Z
DTSTART:20251001T110000Z
DTEND:20251001T124000Z
SUMMARY:Микроэкономика
LOCATION:50 уч.к 1217
END:VEVENT
BEGIN:VEVENT
UID:plha@192.168.245.71:3006
SEQUENCE:0
DTSTAMP:20260424T131416Z
DTSTART:20251001T130000Z
DTEND:20251001T144000Z
SUMMARY:Основы цифровых технологий
LOCATION:50 уч.к 1101
END:VEVENT
BEGIN:VEVENT
UID:iiiu@192.168.245.71:3006
SEQUENCE:0
DTSTAMP:20260424T131416Z
DTSTART:20251002T050000Z
DTEND:20251002T064000Z
SUMMARY:Элективная физическая культура и спорт
LOCATION:СК Спортивный зал
END:VEVENT
BEGIN:VEVENT
UID:odvc@192.168.245.71:3006
SEQUENCE:0
DTSTAMP:20260424T131416Z
DTSTART:20251002T090000Z
DTEND:20251002T104000Z
SUMMARY:Введение в экономическую теорию
LOCATION:DL Дистанционно
END:VEVENT
BEGIN:VEVENT
UID:ownd@192.168.245.71:3006
SEQUENCE:0
DTSTAMP:20260424T131416Z
DTSTART:20251002T130000Z
DTEND:20251002T144000Z
SUMMARY:Основы российской государственности
LOCATION:DL Дистанционно
END:VEVENT
BEGIN:VEVENT
UID:ca58@192.168.245.71:3006
SEQUENCE:0
DTSTAMP:20260424T131416Z
DTSTART:20251003T050000Z
DTEND:20251003T064000Z
SUMMARY:Иностранный язык: Русский язык как иностранный
LOCATION:16 к. 410
END:VEVENT
END:VCALENDAR