BEGIN:VCALENDAR
VERSION:2.0
PRODID:-//spbstu.ru//ical//RU
NAME:Расписание группы 3733801/50001
X-WR-CALNAME:Расписание группы 3733801/50001
TIMEZONE-ID:Europe/Moscow
X-WR-TIMEZONE:Europe/Moscow
BEGIN:VEVENT
UID:czra@192.168.245.71:3006
SEQUENCE:0
DTSTAMP:20260423T182626Z
DTSTART:20260216T050000Z
DTEND:20260216T064000Z
SUMMARY:Иностранный язык: Базовый курс
LOCATION:16 к. 413
END:VEVENT
BEGIN:VEVENT
UID:259k@192.168.245.71:3006
SEQUENCE:0
DTSTAMP:20260423T182626Z
DTSTART:20260216T070000Z
DTEND:20260216T084000Z
SUMMARY:Элективная  физическая культура и спорт
LOCATION:СК Спортивный зал
END:VEVENT
BEGIN:VEVENT
UID:gr7h@192.168.245.71:3006
SEQUENCE:0
DTSTAMP:20260423T182626Z
DTSTART:20260216T090000Z
DTEND:20260216T104000Z
SUMMARY:Макроэкономика
LOCATION:ГЗ 235
END:VEVENT
BEGIN:VEVENT
UID:p9hx@192.168.245.71:3006
SEQUENCE:0
DTSTAMP:20260423T182626Z
DTSTART:20260216T110000Z
DTEND:20260216T124000Z
SUMMARY:История России
LOCATION:ГЗ 235
END:VEVENT
BEGIN:VEVENT
UID:imrr@192.168.245.71:3006
SEQUENCE:0
DTSTAMP:20260423T182626Z
DTSTART:20260218T050000Z
DTEND:20260218T064000Z
SUMMARY:Цифровые средства обработки данных
LOCATION:50 уч.к 1204
END:VEVENT
BEGIN:VEVENT
UID:me0s@192.168.245.71:3006
SEQUENCE:0
DTSTAMP:20260423T182626Z
DTSTART:20260218T070000Z
DTEND:20260218T084000Z
SUMMARY:Экономика предприятия
LOCATION:50 уч.к 1233
END:VEVENT
BEGIN:VEVENT
UID:g365@192.168.245.71:3006
SEQUENCE:0
DTSTAMP:20260423T182626Z
DTSTART:20260218T090000Z
DTEND:20260218T104000Z
SUMMARY:Макроэкономика
LOCATION:50 уч.к 1217
END:VEVENT
BEGIN:VEVENT
UID:35i3@192.168.245.71:3006
SEQUENCE:0
DTSTAMP:20260423T182626Z
DTSTART:20260218T110000Z
DTEND:20260218T124000Z
SUMMARY:История России
LOCATION:50 уч.к 1250
END:VEVENT
BEGIN:VEVENT
UID:alx8@192.168.245.71:3006
SEQUENCE:0
DTSTAMP:20260423T182626Z
DTSTART:20260218T150000Z
DTEND:20260218T180000Z
SUMMARY:Иностранный язык: Русский язык как иностранный
LOCATION:50 уч.к 1319
END:VEVENT
BEGIN:VEVENT
UID:y6j0@192.168.245.71:3006
SEQUENCE:0
DTSTAMP:20260423T182626Z
DTSTART:20260219T050000Z
DTEND:20260219T064000Z
SUMMARY:Элективная  физическая культура и спорт
LOCATION:СК Спортивный зал
END:VEVENT
BEGIN:VEVENT
UID:w9pl@192.168.245.71:3006
SEQUENCE:0
DTSTAMP:20260423T182626Z
DTSTART:20260219T130000Z
DTEND:20260219T144000Z
SUMMARY:Основы цифровых технологий
LOCATION:50 уч.к 1204
END:VEVENT
BEGIN:VEVENT
UID:rsg2@192.168.245.71:3006
SEQUENCE:0
DTSTAMP:20260423T182626Z
DTSTART:20260219T150000Z
DTEND:20260219T164000Z
SUMMARY:Введение в профессиональную деятельность
LOCATION:50 уч.к 1248
END:VEVENT
BEGIN:VEVENT
UID:y5fh@192.168.245.71:3006
SEQUENCE:0
DTSTAMP:20260423T182626Z
DTSTART:20260220T090000Z
DTEND:20260220T104000Z
SUMMARY:Высшая математика
LOCATION:50 уч.к 1242
END:VEVENT
BEGIN:VEVENT
UID:ey9d@192.168.245.71:3006
SEQUENCE:0
DTSTAMP:20260423T182626Z
DTSTART:20260220T110000Z
DTEND:20260220T124000Z
SUMMARY:Высшая математика
LOCATION:50 уч.к 1233
END:VEVENT
BEGIN:VEVENT
UID:ail8@192.168.245.71:3006
SEQUENCE:0
DTSTAMP:20260423T182626Z
DTSTART:20260220T130000Z
DTEND:20260220T144000Z
SUMMARY:Основы государственной регламентации деятельности организации
LOCATION:50 уч.к 1116
END:VEVENT
BEGIN:VEVENT
UID:x3uh@192.168.245.71:3006
SEQUENCE:0
DTSTAMP:20260423T182626Z
DTSTART:20260220T150000Z
DTEND:20260220T164000Z
SUMMARY:Микроэкономика
LOCATION:50 уч.к 1226
END:VEVENT
END:VCALENDAR