BEGIN:VCALENDAR
VERSION:2.0
PRODID:-//spbstu.ru//ical//RU
NAME:Расписание группы 3733801/50001
X-WR-CALNAME:Расписание группы 3733801/50001
TIMEZONE-ID:Europe/Moscow
X-WR-TIMEZONE:Europe/Moscow
BEGIN:VEVENT
UID:609h@192.168.245.71:3006
SEQUENCE:0
DTSTAMP:20260422T204059Z
DTSTART:20260601T070000Z
DTEND:20260601T104000Z
SUMMARY:Иностранный язык: Базовый курс
LOCATION:16 к. 402
END:VEVENT
BEGIN:VEVENT
UID:2t4r@192.168.245.71:3006
SEQUENCE:0
DTSTAMP:20260422T204059Z
DTSTART:20260602T070000Z
DTEND:20260602T084000Z
SUMMARY:Экономика предприятия
LOCATION:50 уч.к 1110
END:VEVENT
BEGIN:VEVENT
UID:y9f9@192.168.245.71:3006
SEQUENCE:0
DTSTAMP:20260422T204059Z
DTSTART:20260603T070000Z
DTEND:20260603T084000Z
SUMMARY:Макроэкономика
LOCATION:50 уч.к 1432
END:VEVENT
BEGIN:VEVENT
UID:jlct@192.168.245.71:3006
SEQUENCE:0
DTSTAMP:20260422T204059Z
DTSTART:20260604T070000Z
DTEND:20260604T104000Z
SUMMARY:Иностранный язык: Русский язык как иностранный
LOCATION:50 уч.к 1432
END:VEVENT
BEGIN:VEVENT
UID:crh4@192.168.245.71:3006
SEQUENCE:0
DTSTAMP:20260422T204059Z
DTSTART:20260605T070000Z
DTEND:20260605T084000Z
SUMMARY:Ознакомительная практика
LOCATION:50 уч.к 1223
END:VEVENT
END:VCALENDAR