BEGIN:VCALENDAR
VERSION:2.0
PRODID:-//spbstu.ru//ical//RU
NAME:Расписание группы 3733801/50002
X-WR-CALNAME:Расписание группы 3733801/50002
TIMEZONE-ID:Europe/Moscow
X-WR-TIMEZONE:Europe/Moscow
BEGIN:VEVENT
UID:ec8s@192.168.245.71:3006
SEQUENCE:0
DTSTAMP:20260425T172629Z
DTSTART:20251201T050000Z
DTEND:20251201T064000Z
SUMMARY:Иностранный язык: Базовый курс
LOCATION:16 к. 418
END:VEVENT
BEGIN:VEVENT
UID:y1ds@192.168.245.71:3006
SEQUENCE:0
DTSTAMP:20260425T172629Z
DTSTART:20251201T070000Z
DTEND:20251201T084000Z
SUMMARY:Элективная физическая культура и спорт
LOCATION:СК Спортивный зал
END:VEVENT
BEGIN:VEVENT
UID:fiox@192.168.245.71:3006
SEQUENCE:0
DTSTAMP:20260425T172629Z
DTSTART:20251201T090000Z
DTEND:20251201T104000Z
SUMMARY:Микроэкономика
LOCATION:ГЗ 235
END:VEVENT
BEGIN:VEVENT
UID:bdx2@192.168.245.71:3006
SEQUENCE:0
DTSTAMP:20260425T172629Z
DTSTART:20251201T150000Z
DTEND:20251201T164000Z
SUMMARY:Иностранный язык: Русский язык как иностранный
LOCATION:16 к. 403
END:VEVENT
BEGIN:VEVENT
UID:kx07@192.168.245.71:3006
SEQUENCE:0
DTSTAMP:20260425T172629Z
DTSTART:20251202T070000Z
DTEND:20251202T084000Z
SUMMARY:Информационные системы и технологии
LOCATION:50 уч.к 1110
END:VEVENT
BEGIN:VEVENT
UID:v3rz@192.168.245.71:3006
SEQUENCE:0
DTSTAMP:20260425T172629Z
DTSTART:20251202T090000Z
DTEND:20251202T104000Z
SUMMARY:Микроэкономика
LOCATION:50 уч.к 1217
END:VEVENT
BEGIN:VEVENT
UID:a7tz@192.168.245.71:3006
SEQUENCE:0
DTSTAMP:20260425T172629Z
DTSTART:20251202T110000Z
DTEND:20251202T124000Z
SUMMARY:Высшая математика
LOCATION:50 уч.к 1233
END:VEVENT
BEGIN:VEVENT
UID:d4h8@192.168.245.71:3006
SEQUENCE:0
DTSTAMP:20260425T172629Z
DTSTART:20251203T130000Z
DTEND:20251203T144000Z
SUMMARY:Творческие семестры
LOCATION:ГЗ Белый зал
END:VEVENT
BEGIN:VEVENT
UID:ql92@192.168.245.71:3006
SEQUENCE:0
DTSTAMP:20260425T172629Z
DTSTART:20251204T050000Z
DTEND:20251204T064000Z
SUMMARY:Элективная физическая культура и спорт
LOCATION:СК Спортивный зал
END:VEVENT
BEGIN:VEVENT
UID:ukdf@192.168.245.71:3006
SEQUENCE:0
DTSTAMP:20260425T172629Z
DTSTART:20251205T050000Z
DTEND:20251205T064000Z
SUMMARY:Иностранный язык: Русский язык как иностранный
LOCATION:16 к. 410
END:VEVENT
BEGIN:VEVENT
UID:suts@192.168.245.71:3006
SEQUENCE:0
DTSTAMP:20260425T172629Z
DTSTART:20251205T070000Z
DTEND:20251205T084000Z
SUMMARY:Основы российской государственности
LOCATION:50 уч.к 1249
END:VEVENT
BEGIN:VEVENT
UID:4rrc@192.168.245.71:3006
SEQUENCE:0
DTSTAMP:20260425T172629Z
DTSTART:20251205T090000Z
DTEND:20251205T104000Z
SUMMARY:Философия
LOCATION:50 уч.к 1251
END:VEVENT
BEGIN:VEVENT
UID:t413@192.168.245.71:3006
SEQUENCE:0
DTSTAMP:20260425T172629Z
DTSTART:20251205T130000Z
DTEND:20251205T151500Z
SUMMARY:Русский язык как иностранный
LOCATION:15 к. 628
END:VEVENT
BEGIN:VEVENT
UID:l38t@192.168.245.71:3006
SEQUENCE:0
DTSTAMP:20260425T172629Z
DTSTART:20251205T130000Z
DTEND:20251205T151500Z
SUMMARY:Русский язык как иностранный
LOCATION:15 к. 420
END:VEVENT
BEGIN:VEVENT
UID:3y3a@192.168.245.71:3006
SEQUENCE:0
DTSTAMP:20260425T172629Z
DTSTART:20251206T070000Z
DTEND:20251206T084000Z
SUMMARY:Высшая математика
LOCATION:50 уч.к 1245
END:VEVENT
BEGIN:VEVENT
UID:igi8@192.168.245.71:3006
SEQUENCE:0
DTSTAMP:20260425T172629Z
DTSTART:20251206T110000Z
DTEND:20251206T131500Z
SUMMARY:Русский язык как иностранный
LOCATION:15 к. 628
END:VEVENT
BEGIN:VEVENT
UID:2iaa@192.168.245.71:3006
SEQUENCE:0
DTSTAMP:20260425T172629Z
DTSTART:20251206T130000Z
DTEND:20251206T151500Z
SUMMARY:Русский язык как иностранный
LOCATION:15 к. 318
END:VEVENT
END:VCALENDAR