BEGIN:VCALENDAR
VERSION:2.0
PRODID:-//spbstu.ru//ical//RU
NAME:Расписание группы 3733801/50002
X-WR-CALNAME:Расписание группы 3733801/50002
TIMEZONE-ID:Europe/Moscow
X-WR-TIMEZONE:Europe/Moscow
BEGIN:VEVENT
UID:yjg7@192.168.245.71:3006
SEQUENCE:0
DTSTAMP:20260425T230055Z
DTSTART:20251208T050000Z
DTEND:20251208T064000Z
SUMMARY:Иностранный язык: Базовый курс
LOCATION:16 к. 418
END:VEVENT
BEGIN:VEVENT
UID:1pac@192.168.245.71:3006
SEQUENCE:0
DTSTAMP:20260425T230055Z
DTSTART:20251208T070000Z
DTEND:20251208T084000Z
SUMMARY:Элективная физическая культура и спорт
LOCATION:СК Спортивный зал
END:VEVENT
BEGIN:VEVENT
UID:cc2e@192.168.245.71:3006
SEQUENCE:0
DTSTAMP:20260425T230055Z
DTSTART:20251208T090000Z
DTEND:20251208T104000Z
SUMMARY:Микроэкономика
LOCATION:ГЗ 235
END:VEVENT
BEGIN:VEVENT
UID:03mw@192.168.245.71:3006
SEQUENCE:0
DTSTAMP:20260425T230055Z
DTSTART:20251208T110000Z
DTEND:20251208T124000Z
SUMMARY:Информационные системы и технологии
LOCATION:ГЗ 235
END:VEVENT
BEGIN:VEVENT
UID:4bx5@192.168.245.71:3006
SEQUENCE:0
DTSTAMP:20260425T230055Z
DTSTART:20251208T150000Z
DTEND:20251208T164000Z
SUMMARY:Иностранный язык: Русский язык как иностранный
LOCATION:16 к. 403
END:VEVENT
BEGIN:VEVENT
UID:8xgd@192.168.245.71:3006
SEQUENCE:0
DTSTAMP:20260425T230055Z
DTSTART:20251209T070000Z
DTEND:20251209T084000Z
SUMMARY:Информационные системы и технологии
LOCATION:50 уч.к 1110
END:VEVENT
BEGIN:VEVENT
UID:bclk@192.168.245.71:3006
SEQUENCE:0
DTSTAMP:20260425T230055Z
DTSTART:20251209T090000Z
DTEND:20251209T104000Z
SUMMARY:Микроэкономика
LOCATION:50 уч.к 1217
END:VEVENT
BEGIN:VEVENT
UID:uk0o@192.168.245.71:3006
SEQUENCE:0
DTSTAMP:20260425T230055Z
DTSTART:20251209T110000Z
DTEND:20251209T124000Z
SUMMARY:Высшая математика
LOCATION:50 уч.к 1233
END:VEVENT
BEGIN:VEVENT
UID:nxgb@192.168.245.71:3006
SEQUENCE:0
DTSTAMP:20260425T230055Z
DTSTART:20251209T130000Z
DTEND:20251209T144000Z
SUMMARY:Основы цифровых технологий
LOCATION:50 уч.к 1101
END:VEVENT
BEGIN:VEVENT
UID:2ywz@192.168.245.71:3006
SEQUENCE:0
DTSTAMP:20260425T230055Z
DTSTART:20251211T090000Z
DTEND:20251211T104000Z
SUMMARY:Введение в экономическую теорию
LOCATION:DL Дистанционно
END:VEVENT
BEGIN:VEVENT
UID:i96n@192.168.245.71:3006
SEQUENCE:0
DTSTAMP:20260425T230055Z
DTSTART:20251212T050000Z
DTEND:20251212T064000Z
SUMMARY:Иностранный язык: Русский язык как иностранный
LOCATION:16 к. 410
END:VEVENT
BEGIN:VEVENT
UID:wav5@192.168.245.71:3006
SEQUENCE:0
DTSTAMP:20260425T230055Z
DTSTART:20251212T070000Z
DTEND:20251212T084000Z
SUMMARY:Основы российской государственности
LOCATION:50 уч.к 1249
END:VEVENT
BEGIN:VEVENT
UID:tj7i@192.168.245.71:3006
SEQUENCE:0
DTSTAMP:20260425T230055Z
DTSTART:20251212T090000Z
DTEND:20251212T104000Z
SUMMARY:Введение в экономическую теорию
LOCATION:50 уч.к 1251
END:VEVENT
BEGIN:VEVENT
UID:xos5@192.168.245.71:3006
SEQUENCE:0
DTSTAMP:20260425T230055Z
DTSTART:20251212T130000Z
DTEND:20251212T151500Z
SUMMARY:Русский язык как иностранный
LOCATION:15 к. 420
END:VEVENT
BEGIN:VEVENT
UID:nq8q@192.168.245.71:3006
SEQUENCE:0
DTSTAMP:20260425T230055Z
DTSTART:20251212T130000Z
DTEND:20251212T151500Z
SUMMARY:Русский язык как иностранный
LOCATION:15 к. 628
END:VEVENT
BEGIN:VEVENT
UID:m4vs@192.168.245.71:3006
SEQUENCE:0
DTSTAMP:20260425T230055Z
DTSTART:20251213T070000Z
DTEND:20251213T084000Z
SUMMARY:Высшая математика
LOCATION:50 уч.к 1245
END:VEVENT
BEGIN:VEVENT
UID:o3zo@192.168.245.71:3006
SEQUENCE:0
DTSTAMP:20260425T230055Z
DTSTART:20251213T110000Z
DTEND:20251213T131500Z
SUMMARY:Русский язык как иностранный
LOCATION:15 к. 628
END:VEVENT
BEGIN:VEVENT
UID:b351@192.168.245.71:3006
SEQUENCE:0
DTSTAMP:20260425T230055Z
DTSTART:20251213T130000Z
DTEND:20251213T151500Z
SUMMARY:Русский язык как иностранный
LOCATION:15 к. 318
END:VEVENT
END:VCALENDAR