BEGIN:VCALENDAR
VERSION:2.0
PRODID:-//spbstu.ru//ical//RU
NAME:Расписание группы 3733801/50002
X-WR-CALNAME:Расписание группы 3733801/50002
TIMEZONE-ID:Europe/Moscow
X-WR-TIMEZONE:Europe/Moscow
BEGIN:VEVENT
UID:sgqu@192.168.245.71:3006
SEQUENCE:0
DTSTAMP:20260424T202835Z
DTSTART:20260112T110000Z
DTEND:20260112T124000Z
SUMMARY:Информационные системы и технологии
LOCATION:DL Дистанционно
END:VEVENT
BEGIN:VEVENT
UID:h3be@192.168.245.71:3006
SEQUENCE:0
DTSTAMP:20260424T202835Z
DTSTART:20260113T090000Z
DTEND:20260113T104000Z
SUMMARY:Информационные системы и технологии
LOCATION:50 уч.к 1101
END:VEVENT
BEGIN:VEVENT
UID:toqk@192.168.245.71:3006
SEQUENCE:0
DTSTAMP:20260424T202835Z
DTSTART:20260114T150000Z
DTEND:20260114T164000Z
SUMMARY:Микроэкономика
LOCATION:DL Дистанционно
END:VEVENT
BEGIN:VEVENT
UID:lyce@192.168.245.71:3006
SEQUENCE:0
DTSTAMP:20260424T202835Z
DTSTART:20260116T110000Z
DTEND:20260116T144000Z
SUMMARY:Микроэкономика
LOCATION:50 уч.к 1219
END:VEVENT
END:VCALENDAR