BEGIN:VCALENDAR
VERSION:2.0
PRODID:-//spbstu.ru//ical//RU
NAME:Расписание группы 3733801/50004
X-WR-CALNAME:Расписание группы 3733801/50004
TIMEZONE-ID:Europe/Moscow
X-WR-TIMEZONE:Europe/Moscow
BEGIN:VEVENT
UID:ri5p@192.168.245.71:3006
SEQUENCE:0
DTSTAMP:20260424T044409Z
DTSTART:20260302T050000Z
DTEND:20260302T064000Z
SUMMARY:Иностранный язык: Базовый курс
LOCATION:16 к. 406
END:VEVENT
BEGIN:VEVENT
UID:typn@192.168.245.71:3006
SEQUENCE:0
DTSTAMP:20260424T044409Z
DTSTART:20260302T070000Z
DTEND:20260302T084000Z
SUMMARY:Элективная  физическая культура и спорт
LOCATION:СК Спортивный зал
END:VEVENT
BEGIN:VEVENT
UID:hvi5@192.168.245.71:3006
SEQUENCE:0
DTSTAMP:20260424T044409Z
DTSTART:20260302T090000Z
DTEND:20260302T104000Z
SUMMARY:Макроэкономика
LOCATION:ГЗ 235
END:VEVENT
BEGIN:VEVENT
UID:5roc@192.168.245.71:3006
SEQUENCE:0
DTSTAMP:20260424T044409Z
DTSTART:20260302T110000Z
DTEND:20260302T124000Z
SUMMARY:История России
LOCATION:ГЗ 235
END:VEVENT
BEGIN:VEVENT
UID:2frl@192.168.245.71:3006
SEQUENCE:0
DTSTAMP:20260424T044409Z
DTSTART:20260303T070000Z
DTEND:20260303T084000Z
SUMMARY:Высшая математика
LOCATION:50 уч.к 1234
END:VEVENT
BEGIN:VEVENT
UID:gqkh@192.168.245.71:3006
SEQUENCE:0
DTSTAMP:20260424T044409Z
DTSTART:20260303T090000Z
DTEND:20260303T104000Z
SUMMARY:Основы государственной регламентации деятельности организации
LOCATION:50 уч.к 1231
END:VEVENT
BEGIN:VEVENT
UID:s51q@192.168.245.71:3006
SEQUENCE:0
DTSTAMP:20260424T044409Z
DTSTART:20260303T110000Z
DTEND:20260303T124000Z
SUMMARY:Экономика предприятия
LOCATION:50 уч.к 1423
END:VEVENT
BEGIN:VEVENT
UID:ft3x@192.168.245.71:3006
SEQUENCE:0
DTSTAMP:20260424T044409Z
DTSTART:20260303T130000Z
DTEND:20260303T144000Z
SUMMARY:История России
LOCATION:50 уч.к 1248
END:VEVENT
BEGIN:VEVENT
UID:7l5w@192.168.245.71:3006
SEQUENCE:0
DTSTAMP:20260424T044409Z
DTSTART:20260304T150000Z
DTEND:20260304T180000Z
SUMMARY:Иностранный язык: Русский язык как иностранный
LOCATION:50 уч.к 1319
END:VEVENT
BEGIN:VEVENT
UID:il52@192.168.245.71:3006
SEQUENCE:0
DTSTAMP:20260424T044409Z
DTSTART:20260305T050000Z
DTEND:20260305T064000Z
SUMMARY:Элективная  физическая культура и спорт
LOCATION:СК Спортивный зал
END:VEVENT
BEGIN:VEVENT
UID:mdfi@192.168.245.71:3006
SEQUENCE:0
DTSTAMP:20260424T044409Z
DTSTART:20260306T070000Z
DTEND:20260306T084000Z
SUMMARY:Цифровые средства обработки данных
LOCATION:50 уч.к 1204
END:VEVENT
BEGIN:VEVENT
UID:2y1w@192.168.245.71:3006
SEQUENCE:0
DTSTAMP:20260424T044409Z
DTSTART:20260306T090000Z
DTEND:20260306T104000Z
SUMMARY:Высшая математика
LOCATION:50 уч.к 1111
END:VEVENT
BEGIN:VEVENT
UID:85x4@192.168.245.71:3006
SEQUENCE:0
DTSTAMP:20260424T044409Z
DTSTART:20260306T110000Z
DTEND:20260306T124000Z
SUMMARY:Высшая математика
LOCATION:50 уч.к 1235
END:VEVENT
BEGIN:VEVENT
UID:wi6h@192.168.245.71:3006
SEQUENCE:0
DTSTAMP:20260424T044409Z
DTSTART:20260306T130000Z
DTEND:20260306T144000Z
SUMMARY:Макроэкономика
LOCATION:50 уч.к 1232
END:VEVENT
END:VCALENDAR