BEGIN:VCALENDAR
VERSION:2.0
PRODID:-//spbstu.ru//ical//RU
NAME:Расписание группы 3733801/50004
X-WR-CALNAME:Расписание группы 3733801/50004
TIMEZONE-ID:Europe/Moscow
X-WR-TIMEZONE:Europe/Moscow
BEGIN:VEVENT
UID:dtin@192.168.245.71:3006
SEQUENCE:0
DTSTAMP:20260423T210851Z
DTSTART:20260323T050000Z
DTEND:20260323T064000Z
SUMMARY:Иностранный язык: Базовый курс
LOCATION:16 к. 406
END:VEVENT
BEGIN:VEVENT
UID:o6os@192.168.245.71:3006
SEQUENCE:0
DTSTAMP:20260423T210851Z
DTSTART:20260323T070000Z
DTEND:20260323T084000Z
SUMMARY:Элективная  физическая культура и спорт
LOCATION:СК Спортивный зал
END:VEVENT
BEGIN:VEVENT
UID:5w17@192.168.245.71:3006
SEQUENCE:0
DTSTAMP:20260423T210851Z
DTSTART:20260323T090000Z
DTEND:20260323T104000Z
SUMMARY:Макроэкономика
LOCATION:ГЗ 235
END:VEVENT
BEGIN:VEVENT
UID:qiq4@192.168.245.71:3006
SEQUENCE:0
DTSTAMP:20260423T210851Z
DTSTART:20260323T110000Z
DTEND:20260323T124000Z
SUMMARY:Экономика предприятия
LOCATION:ГЗ 235
END:VEVENT
BEGIN:VEVENT
UID:3q88@192.168.245.71:3006
SEQUENCE:0
DTSTAMP:20260423T210851Z
DTSTART:20260323T130000Z
DTEND:20260323T144000Z
SUMMARY:Основы российской государственности
LOCATION:50 уч.к 1331
END:VEVENT
BEGIN:VEVENT
UID:kzfr@192.168.245.71:3006
SEQUENCE:0
DTSTAMP:20260423T210851Z
DTSTART:20260324T090000Z
DTEND:20260324T104000Z
SUMMARY:Концепции современного естествознания
LOCATION:50 уч.к 1217
END:VEVENT
BEGIN:VEVENT
UID:3lnd@192.168.245.71:3006
SEQUENCE:0
DTSTAMP:20260423T210851Z
DTSTART:20260324T103000Z
DTEND:20260324T110000Z
SUMMARY:Информационные системы и технологии
LOCATION:50 уч.к 1104
END:VEVENT
BEGIN:VEVENT
UID:4qow@192.168.245.71:3006
SEQUENCE:0
DTSTAMP:20260423T210851Z
DTSTART:20260324T110000Z
DTEND:20260324T124000Z
SUMMARY:Экономика предприятия
LOCATION:50 уч.к 1423
END:VEVENT
BEGIN:VEVENT
UID:k1ba@192.168.245.71:3006
SEQUENCE:0
DTSTAMP:20260423T210851Z
DTSTART:20260324T130000Z
DTEND:20260324T144000Z
SUMMARY:История России
LOCATION:50 уч.к 1248
END:VEVENT
BEGIN:VEVENT
UID:4x7t@192.168.245.71:3006
SEQUENCE:0
DTSTAMP:20260423T210851Z
DTSTART:20260324T133000Z
DTEND:20260324T160000Z
SUMMARY:Микроэкономика
LOCATION:50 уч.к 1421
END:VEVENT
BEGIN:VEVENT
UID:p1o6@192.168.245.71:3006
SEQUENCE:0
DTSTAMP:20260423T210851Z
DTSTART:20260324T140000Z
DTEND:20260324T153000Z
SUMMARY:Введение в профессиональную деятельность
LOCATION:50 уч.к 1324
END:VEVENT
BEGIN:VEVENT
UID:0f4m@192.168.245.71:3006
SEQUENCE:0
DTSTAMP:20260423T210851Z
DTSTART:20260325T130000Z
DTEND:20260325T140000Z
SUMMARY:Основы цифровых технологий
LOCATION:50 уч.к 1109
END:VEVENT
BEGIN:VEVENT
UID:hsji@192.168.245.71:3006
SEQUENCE:0
DTSTAMP:20260423T210851Z
DTSTART:20260325T150000Z
DTEND:20260325T180000Z
SUMMARY:Иностранный язык: Русский язык как иностранный
LOCATION:50 уч.к 1319
END:VEVENT
BEGIN:VEVENT
UID:3vrt@192.168.245.71:3006
SEQUENCE:0
DTSTAMP:20260423T210851Z
DTSTART:20260326T050000Z
DTEND:20260326T064000Z
SUMMARY:Элективная  физическая культура и спорт
LOCATION:СК Спортивный зал
END:VEVENT
BEGIN:VEVENT
UID:l3fd@192.168.245.71:3006
SEQUENCE:0
DTSTAMP:20260423T210851Z
DTSTART:20260326T150000Z
DTEND:20260326T164000Z
SUMMARY:Философия
LOCATION:50 уч.к 1113
END:VEVENT
BEGIN:VEVENT
UID:f921@192.168.245.71:3006
SEQUENCE:0
DTSTAMP:20260423T210851Z
DTSTART:20260326T150000Z
DTEND:20260326T164000Z
SUMMARY:Цифровые средства обработки данных
LOCATION:DL Дистанционно
END:VEVENT
BEGIN:VEVENT
UID:ffr8@192.168.245.71:3006
SEQUENCE:0
DTSTAMP:20260423T210851Z
DTSTART:20260327T070000Z
DTEND:20260327T084000Z
SUMMARY:Цифровые средства обработки данных
LOCATION:50 уч.к 1204
END:VEVENT
BEGIN:VEVENT
UID:wkoj@192.168.245.71:3006
SEQUENCE:0
DTSTAMP:20260423T210851Z
DTSTART:20260327T090000Z
DTEND:20260327T104000Z
SUMMARY:Высшая математика
LOCATION:50 уч.к 1111
END:VEVENT
BEGIN:VEVENT
UID:dgqe@192.168.245.71:3006
SEQUENCE:0
DTSTAMP:20260423T210851Z
DTSTART:20260327T110000Z
DTEND:20260327T124000Z
SUMMARY:Высшая математика
LOCATION:50 уч.к 1235
END:VEVENT
BEGIN:VEVENT
UID:i4v0@192.168.245.71:3006
SEQUENCE:0
DTSTAMP:20260423T210851Z
DTSTART:20260327T130000Z
DTEND:20260327T144000Z
SUMMARY:Макроэкономика
LOCATION:50 уч.к 1232
END:VEVENT
BEGIN:VEVENT
UID:wzan@192.168.245.71:3006
SEQUENCE:0
DTSTAMP:20260423T210851Z
DTSTART:20260327T143000Z
DTEND:20260327T160000Z
SUMMARY:Введение в экономическую теорию
LOCATION:50 уч.к 1111
END:VEVENT
END:VCALENDAR