BEGIN:VCALENDAR
VERSION:2.0
PRODID:-//spbstu.ru//ical//RU
NAME:Расписание группы 3733801/50005
X-WR-CALNAME:Расписание группы 3733801/50005
TIMEZONE-ID:Europe/Moscow
X-WR-TIMEZONE:Europe/Moscow
BEGIN:VEVENT
UID:gi04@192.168.245.71:3006
SEQUENCE:0
DTSTAMP:20260423T085350Z
DTSTART:20260427T050000Z
DTEND:20260427T064000Z
SUMMARY:Иностранный язык: Базовый курс
LOCATION:16 к. 411
END:VEVENT
BEGIN:VEVENT
UID:47g0@192.168.245.71:3006
SEQUENCE:0
DTSTAMP:20260423T085350Z
DTSTART:20260427T070000Z
DTEND:20260427T084000Z
SUMMARY:Элективная  физическая культура и спорт
LOCATION:СК Спортивный зал
END:VEVENT
BEGIN:VEVENT
UID:czo9@192.168.245.71:3006
SEQUENCE:0
DTSTAMP:20260423T085350Z
DTSTART:20260427T090000Z
DTEND:20260427T104000Z
SUMMARY:Макроэкономика
LOCATION:ГЗ 235
END:VEVENT
BEGIN:VEVENT
UID:xrhb@192.168.245.71:3006
SEQUENCE:0
DTSTAMP:20260423T085350Z
DTSTART:20260427T110000Z
DTEND:20260427T124000Z
SUMMARY:История России
LOCATION:ГЗ 235
END:VEVENT
BEGIN:VEVENT
UID:q9x8@192.168.245.71:3006
SEQUENCE:0
DTSTAMP:20260423T085350Z
DTSTART:20260428T070000Z
DTEND:20260428T084000Z
SUMMARY:Основы государственной регламентации деятельности организации
LOCATION:50 уч.к 1231
END:VEVENT
BEGIN:VEVENT
UID:8qpy@192.168.245.71:3006
SEQUENCE:0
DTSTAMP:20260423T085350Z
DTSTART:20260428T090000Z
DTEND:20260428T104000Z
SUMMARY:Экономика предприятия
LOCATION:50 уч.к 1423
END:VEVENT
BEGIN:VEVENT
UID:emk5@192.168.245.71:3006
SEQUENCE:0
DTSTAMP:20260423T085350Z
DTSTART:20260428T110000Z
DTEND:20260428T124000Z
SUMMARY:Высшая математика
LOCATION:50 уч.к 1234
END:VEVENT
BEGIN:VEVENT
UID:b6bi@192.168.245.71:3006
SEQUENCE:0
DTSTAMP:20260423T085350Z
DTSTART:20260428T130000Z
DTEND:20260428T144000Z
SUMMARY:Концепции современного естествознания
LOCATION:50 уч.к 1239
END:VEVENT
BEGIN:VEVENT
UID:i7g9@192.168.245.71:3006
SEQUENCE:0
DTSTAMP:20260423T085350Z
DTSTART:20260429T150000Z
DTEND:20260429T180000Z
SUMMARY:Иностранный язык: Русский язык как иностранный
LOCATION:50 уч.к 1319
END:VEVENT
BEGIN:VEVENT
UID:f9xl@192.168.245.71:3006
SEQUENCE:0
DTSTAMP:20260423T085350Z
DTSTART:20260430T050000Z
DTEND:20260430T064000Z
SUMMARY:Элективная  физическая культура и спорт
LOCATION:СК Спортивный зал
END:VEVENT
END:VCALENDAR