BEGIN:VCALENDAR
VERSION:2.0
PRODID:-//spbstu.ru//ical//RU
NAME:Расписание группы 3733801/50006
X-WR-CALNAME:Расписание группы 3733801/50006
TIMEZONE-ID:Europe/Moscow
X-WR-TIMEZONE:Europe/Moscow
BEGIN:VEVENT
UID:cos4@192.168.245.71:3006
SEQUENCE:0
DTSTAMP:20260424T165122Z
DTSTART:20251215T050000Z
DTEND:20251215T064000Z
SUMMARY:Иностранный язык: Базовый курс
LOCATION:16 к. 410
END:VEVENT
BEGIN:VEVENT
UID:bksd@192.168.245.71:3006
SEQUENCE:0
DTSTAMP:20260424T165122Z
DTSTART:20251215T090000Z
DTEND:20251215T104000Z
SUMMARY:Микроэкономика
LOCATION:ГЗ 235
END:VEVENT
BEGIN:VEVENT
UID:l8cx@192.168.245.71:3006
SEQUENCE:0
DTSTAMP:20260424T165122Z
DTSTART:20251215T150000Z
DTEND:20251215T164000Z
SUMMARY:Иностранный язык: Русский язык как иностранный
LOCATION:16 к. 403
END:VEVENT
BEGIN:VEVENT
UID:6t84@192.168.245.71:3006
SEQUENCE:0
DTSTAMP:20260424T165122Z
DTSTART:20251216T090000Z
DTEND:20251216T104000Z
SUMMARY:Высшая математика
LOCATION:50 уч.к 1432
END:VEVENT
BEGIN:VEVENT
UID:kvyw@192.168.245.71:3006
SEQUENCE:0
DTSTAMP:20260424T165122Z
DTSTART:20251216T110000Z
DTEND:20251216T124000Z
SUMMARY:Высшая математика
LOCATION:50 уч.к 1232
END:VEVENT
BEGIN:VEVENT
UID:bvcl@192.168.245.71:3006
SEQUENCE:0
DTSTAMP:20260424T165122Z
DTSTART:20251217T090000Z
DTEND:20251217T104000Z
SUMMARY:Основы цифровых технологий
LOCATION:50 уч.к 1204
END:VEVENT
BEGIN:VEVENT
UID:jmma@192.168.245.71:3006
SEQUENCE:0
DTSTAMP:20260424T165122Z
DTSTART:20251218T050000Z
DTEND:20251218T064000Z
SUMMARY:Элективная физическая культура и спорт
LOCATION:СК Спортивный зал
END:VEVENT
BEGIN:VEVENT
UID:0xhq@192.168.245.71:3006
SEQUENCE:0
DTSTAMP:20260424T165122Z
DTSTART:20251218T090000Z
DTEND:20251218T130000Z
SUMMARY:Иностранный язык: Базовый курс
LOCATION:16 к. 403
END:VEVENT
BEGIN:VEVENT
UID:788y@192.168.245.71:3006
SEQUENCE:0
DTSTAMP:20260424T165122Z
DTSTART:20251219T130000Z
DTEND:20251219T144000Z
SUMMARY:Основы российской государственности
LOCATION:50 уч.к 1319
END:VEVENT
BEGIN:VEVENT
UID:buik@192.168.245.71:3006
SEQUENCE:0
DTSTAMP:20260424T165122Z
DTSTART:20251220T110000Z
DTEND:20251220T124000Z
SUMMARY:Высшая математика
LOCATION:50 уч.к 1323
END:VEVENT
END:VCALENDAR