BEGIN:VCALENDAR
VERSION:2.0
PRODID:-//spbstu.ru//ical//RU
NAME:Расписание группы 3733801/50006
X-WR-CALNAME:Расписание группы 3733801/50006
TIMEZONE-ID:Europe/Moscow
X-WR-TIMEZONE:Europe/Moscow
BEGIN:VEVENT
UID:dmbk@192.168.245.71:3006
SEQUENCE:0
DTSTAMP:20260422T154929Z
DTSTART:20260316T050000Z
DTEND:20260316T064000Z
SUMMARY:Иностранный язык: Базовый курс
LOCATION:16 к. 410
END:VEVENT
BEGIN:VEVENT
UID:a3o9@192.168.245.71:3006
SEQUENCE:0
DTSTAMP:20260422T154929Z
DTSTART:20260316T070000Z
DTEND:20260316T084000Z
SUMMARY:Элективная  физическая культура и спорт
LOCATION:СК Спортивный зал
END:VEVENT
BEGIN:VEVENT
UID:oc9z@192.168.245.71:3006
SEQUENCE:0
DTSTAMP:20260422T154929Z
DTSTART:20260316T090000Z
DTEND:20260316T104000Z
SUMMARY:Макроэкономика
LOCATION:ГЗ 235
END:VEVENT
BEGIN:VEVENT
UID:1ieg@192.168.245.71:3006
SEQUENCE:0
DTSTAMP:20260422T154929Z
DTSTART:20260316T110000Z
DTEND:20260316T124000Z
SUMMARY:История России
LOCATION:ГЗ 235
END:VEVENT
BEGIN:VEVENT
UID:ycjm@192.168.245.71:3006
SEQUENCE:0
DTSTAMP:20260422T154929Z
DTSTART:20260317T070000Z
DTEND:20260317T084000Z
SUMMARY:Экономика предприятия
LOCATION:50 уч.к 1423
END:VEVENT
BEGIN:VEVENT
UID:l6iw@192.168.245.71:3006
SEQUENCE:0
DTSTAMP:20260422T154929Z
DTSTART:20260317T090000Z
DTEND:20260317T104000Z
SUMMARY:Высшая математика
LOCATION:50 уч.к 1234
END:VEVENT
BEGIN:VEVENT
UID:fnpm@192.168.245.71:3006
SEQUENCE:0
DTSTAMP:20260422T154929Z
DTSTART:20260317T110000Z
DTEND:20260317T124000Z
SUMMARY:Макроэкономика
LOCATION:50 уч.к 1116
END:VEVENT
BEGIN:VEVENT
UID:1d7y@192.168.245.71:3006
SEQUENCE:0
DTSTAMP:20260422T154929Z
DTSTART:20260318T150000Z
DTEND:20260318T180000Z
SUMMARY:Иностранный язык: Русский язык как иностранный
LOCATION:50 уч.к 1319
END:VEVENT
BEGIN:VEVENT
UID:u26w@192.168.245.71:3006
SEQUENCE:0
DTSTAMP:20260422T154929Z
DTSTART:20260319T050000Z
DTEND:20260319T064000Z
SUMMARY:Элективная  физическая культура и спорт
LOCATION:СК Спортивный зал
END:VEVENT
BEGIN:VEVENT
UID:d7qi@192.168.245.71:3006
SEQUENCE:0
DTSTAMP:20260422T154929Z
DTSTART:20260320T070000Z
DTEND:20260320T084000Z
SUMMARY:Высшая математика
LOCATION:50 уч.к 1234
END:VEVENT
BEGIN:VEVENT
UID:wc4u@192.168.245.71:3006
SEQUENCE:0
DTSTAMP:20260422T154929Z
DTSTART:20260320T090000Z
DTEND:20260320T104000Z
SUMMARY:Высшая математика
LOCATION:50 уч.к 1111
END:VEVENT
BEGIN:VEVENT
UID:mje8@192.168.245.71:3006
SEQUENCE:0
DTSTAMP:20260422T154929Z
DTSTART:20260320T110000Z
DTEND:20260320T124000Z
SUMMARY:Цифровые средства обработки данных
LOCATION:50 уч.к 1204
END:VEVENT
BEGIN:VEVENT
UID:e5hj@192.168.245.71:3006
SEQUENCE:0
DTSTAMP:20260422T154929Z
DTSTART:20260320T130000Z
DTEND:20260320T144000Z
SUMMARY:История России
LOCATION:50 уч.к 1239
END:VEVENT
END:VCALENDAR