BEGIN:VCALENDAR
VERSION:2.0
PRODID:-//spbstu.ru//ical//RU
NAME:Расписание группы 3733801/50006
X-WR-CALNAME:Расписание группы 3733801/50006
TIMEZONE-ID:Europe/Moscow
X-WR-TIMEZONE:Europe/Moscow
BEGIN:VEVENT
UID:tnzs@192.168.245.71:3006
SEQUENCE:0
DTSTAMP:20260422T020202Z
DTSTART:20260406T050000Z
DTEND:20260406T064000Z
SUMMARY:Иностранный язык: Базовый курс
LOCATION:16 к. 410
END:VEVENT
BEGIN:VEVENT
UID:78re@192.168.245.71:3006
SEQUENCE:0
DTSTAMP:20260422T020202Z
DTSTART:20260406T070000Z
DTEND:20260406T084000Z
SUMMARY:Элективная  физическая культура и спорт
LOCATION:СК Спортивный зал
END:VEVENT
BEGIN:VEVENT
UID:su7j@192.168.245.71:3006
SEQUENCE:0
DTSTAMP:20260422T020202Z
DTSTART:20260406T090000Z
DTEND:20260406T104000Z
SUMMARY:Макроэкономика
LOCATION:ГЗ 235
END:VEVENT
BEGIN:VEVENT
UID:b3mg@192.168.245.71:3006
SEQUENCE:0
DTSTAMP:20260422T020202Z
DTSTART:20260406T110000Z
DTEND:20260406T124000Z
SUMMARY:Экономика предприятия
LOCATION:ГЗ 235
END:VEVENT
BEGIN:VEVENT
UID:p1q9@192.168.245.71:3006
SEQUENCE:0
DTSTAMP:20260422T020202Z
DTSTART:20260407T070000Z
DTEND:20260407T084000Z
SUMMARY:Экономика предприятия
LOCATION:50 уч.к 1423
END:VEVENT
BEGIN:VEVENT
UID:w97t@192.168.245.71:3006
SEQUENCE:0
DTSTAMP:20260422T020202Z
DTSTART:20260407T090000Z
DTEND:20260407T104000Z
SUMMARY:Высшая математика
LOCATION:50 уч.к 1234
END:VEVENT
BEGIN:VEVENT
UID:qavf@192.168.245.71:3006
SEQUENCE:0
DTSTAMP:20260422T020202Z
DTSTART:20260407T110000Z
DTEND:20260407T124000Z
SUMMARY:Макроэкономика
LOCATION:50 уч.к 1116
END:VEVENT
BEGIN:VEVENT
UID:m4nk@192.168.245.71:3006
SEQUENCE:0
DTSTAMP:20260422T020202Z
DTSTART:20260407T130000Z
DTEND:20260407T144000Z
SUMMARY:Концепции современного естествознания
LOCATION:50 уч.к 1234
END:VEVENT
BEGIN:VEVENT
UID:mewp@192.168.245.71:3006
SEQUENCE:0
DTSTAMP:20260422T020202Z
DTSTART:20260408T150000Z
DTEND:20260408T180000Z
SUMMARY:Иностранный язык: Русский язык как иностранный
LOCATION:50 уч.к 1319
END:VEVENT
BEGIN:VEVENT
UID:0r9w@192.168.245.71:3006
SEQUENCE:0
DTSTAMP:20260422T020202Z
DTSTART:20260409T050000Z
DTEND:20260409T064000Z
SUMMARY:Элективная  физическая культура и спорт
LOCATION:СК Спортивный зал
END:VEVENT
BEGIN:VEVENT
UID:o6ij@192.168.245.71:3006
SEQUENCE:0
DTSTAMP:20260422T020202Z
DTSTART:20260409T150000Z
DTEND:20260409T164000Z
SUMMARY:Цифровые средства обработки данных
LOCATION:DL Дистанционно
END:VEVENT
BEGIN:VEVENT
UID:ty2y@192.168.245.71:3006
SEQUENCE:0
DTSTAMP:20260422T020202Z
DTSTART:20260410T070000Z
DTEND:20260410T084000Z
SUMMARY:Основы государственной регламентации деятельности организации
LOCATION:50 уч.к 1232
END:VEVENT
BEGIN:VEVENT
UID:jqre@192.168.245.71:3006
SEQUENCE:0
DTSTAMP:20260422T020202Z
DTSTART:20260410T090000Z
DTEND:20260410T104000Z
SUMMARY:Высшая математика
LOCATION:50 уч.к 1111
END:VEVENT
BEGIN:VEVENT
UID:fu9p@192.168.245.71:3006
SEQUENCE:0
DTSTAMP:20260422T020202Z
DTSTART:20260410T110000Z
DTEND:20260410T124000Z
SUMMARY:Цифровые средства обработки данных
LOCATION:50 уч.к 1204
END:VEVENT
BEGIN:VEVENT
UID:lgvc@192.168.245.71:3006
SEQUENCE:0
DTSTAMP:20260422T020202Z
DTSTART:20260410T130000Z
DTEND:20260410T144000Z
SUMMARY:История России
LOCATION:50 уч.к 1239
END:VEVENT
END:VCALENDAR