BEGIN:VCALENDAR
VERSION:2.0
PRODID:-//spbstu.ru//ical//RU
NAME:Расписание группы 3733801/50006
X-WR-CALNAME:Расписание группы 3733801/50006
TIMEZONE-ID:Europe/Moscow
X-WR-TIMEZONE:Europe/Moscow
BEGIN:VEVENT
UID:wotp@192.168.245.71:3006
SEQUENCE:0
DTSTAMP:20260422T102633Z
DTSTART:20260511T050000Z
DTEND:20260511T064000Z
SUMMARY:Иностранный язык: Базовый курс
LOCATION:16 к. 410
END:VEVENT
BEGIN:VEVENT
UID:oaqs@192.168.245.71:3006
SEQUENCE:0
DTSTAMP:20260422T102633Z
DTSTART:20260511T070000Z
DTEND:20260511T084000Z
SUMMARY:Элективная  физическая культура и спорт
LOCATION:СК Спортивный зал
END:VEVENT
BEGIN:VEVENT
UID:gvdb@192.168.245.71:3006
SEQUENCE:0
DTSTAMP:20260422T102633Z
DTSTART:20260511T090000Z
DTEND:20260511T104000Z
SUMMARY:Макроэкономика
LOCATION:ГЗ 235
END:VEVENT
BEGIN:VEVENT
UID:pdwg@192.168.245.71:3006
SEQUENCE:0
DTSTAMP:20260422T102633Z
DTSTART:20260511T110000Z
DTEND:20260511T124000Z
SUMMARY:История России
LOCATION:ГЗ 235
END:VEVENT
BEGIN:VEVENT
UID:p29m@192.168.245.71:3006
SEQUENCE:0
DTSTAMP:20260422T102633Z
DTSTART:20260512T090000Z
DTEND:20260512T104000Z
SUMMARY:Высшая математика
LOCATION:50 уч.к 1234
END:VEVENT
BEGIN:VEVENT
UID:j97z@192.168.245.71:3006
SEQUENCE:0
DTSTAMP:20260422T102633Z
DTSTART:20260513T150000Z
DTEND:20260513T180000Z
SUMMARY:Иностранный язык: Русский язык как иностранный
LOCATION:50 уч.к 1319
END:VEVENT
BEGIN:VEVENT
UID:32q9@192.168.245.71:3006
SEQUENCE:0
DTSTAMP:20260422T102633Z
DTSTART:20260514T050000Z
DTEND:20260514T064000Z
SUMMARY:Элективная  физическая культура и спорт
LOCATION:СК Спортивный зал
END:VEVENT
BEGIN:VEVENT
UID:a7xt@192.168.245.71:3006
SEQUENCE:0
DTSTAMP:20260422T102633Z
DTSTART:20260515T070000Z
DTEND:20260515T084000Z
SUMMARY:Высшая математика
LOCATION:50 уч.к 1234
END:VEVENT
BEGIN:VEVENT
UID:jhwy@192.168.245.71:3006
SEQUENCE:0
DTSTAMP:20260422T102633Z
DTSTART:20260515T090000Z
DTEND:20260515T104000Z
SUMMARY:Высшая математика
LOCATION:50 уч.к 1111
END:VEVENT
END:VCALENDAR