BEGIN:VCALENDAR
VERSION:2.0
PRODID:-//spbstu.ru//ical//RU
NAME:Расписание группы 3733801/50981
X-WR-CALNAME:Расписание группы 3733801/50981
TIMEZONE-ID:Europe/Moscow
X-WR-TIMEZONE:Europe/Moscow
BEGIN:VEVENT
UID:1i2p@192.168.245.71:3006
SEQUENCE:0
DTSTAMP:20260423T012614Z
DTSTART:20260601T070000Z
DTEND:20260601T094000Z
SUMMARY:История России
LOCATION:50 уч.к 1326
END:VEVENT
BEGIN:VEVENT
UID:iusl@192.168.245.71:3006
SEQUENCE:0
DTSTAMP:20260423T012614Z
DTSTART:20260602T070000Z
DTEND:20260602T093000Z
SUMMARY:Русский язык как иностранный: деловая коммуникация
LOCATION:15 к. 604
END:VEVENT
BEGIN:VEVENT
UID:n1xc@192.168.245.71:3006
SEQUENCE:0
DTSTAMP:20260423T012614Z
DTSTART:20260602T070000Z
DTEND:20260602T093000Z
SUMMARY:Иностранный язык: Русский язык как иностранный
LOCATION:15 к. 412
END:VEVENT
BEGIN:VEVENT
UID:joge@192.168.245.71:3006
SEQUENCE:0
DTSTAMP:20260423T012614Z
DTSTART:20260602T110000Z
DTEND:20260602T124000Z
SUMMARY:Макроэкономика
LOCATION:DL Дистанционно
END:VEVENT
BEGIN:VEVENT
UID:1jtl@192.168.245.71:3006
SEQUENCE:0
DTSTAMP:20260423T012614Z
DTSTART:20260603T070000Z
DTEND:20260603T084000Z
SUMMARY:Экономика предприятия
LOCATION:50 уч.к 1104
END:VEVENT
BEGIN:VEVENT
UID:zrda@192.168.245.71:3006
SEQUENCE:0
DTSTAMP:20260423T012614Z
DTSTART:20260604T110000Z
DTEND:20260604T133000Z
SUMMARY:Иностранный язык: Русский язык как иностранный
LOCATION:15 к. 705
END:VEVENT
END:VCALENDAR