BEGIN:VCALENDAR
VERSION:2.0
PRODID:-//spbstu.ru//ical//RU
NAME:Расписание группы 3733801/50982
X-WR-CALNAME:Расписание группы 3733801/50982
TIMEZONE-ID:Europe/Moscow
X-WR-TIMEZONE:Europe/Moscow
BEGIN:VEVENT
UID:477k@192.168.245.71:3006
SEQUENCE:0
DTSTAMP:20260426T004852Z
DTSTART:20251110T070000Z
DTEND:20251110T084000Z
SUMMARY:Элективная физическая культура и спорт
LOCATION:СК Спортивный зал
END:VEVENT
BEGIN:VEVENT
UID:wqno@192.168.245.71:3006
SEQUENCE:0
DTSTAMP:20260426T004852Z
DTSTART:20251110T130000Z
DTEND:20251110T144000Z
SUMMARY:Основы российской государственности
LOCATION:50 уч.к 1112
END:VEVENT
BEGIN:VEVENT
UID:hpcz@192.168.245.71:3006
SEQUENCE:0
DTSTAMP:20260426T004852Z
DTSTART:20251111T090000Z
DTEND:20251111T104000Z
SUMMARY:Введение в экономическую теорию
LOCATION:DL Дистанционно
END:VEVENT
BEGIN:VEVENT
UID:gtwo@192.168.245.71:3006
SEQUENCE:0
DTSTAMP:20260426T004852Z
DTSTART:20251113T050000Z
DTEND:20251113T064000Z
SUMMARY:Элективная физическая культура и спорт
LOCATION:СК Спортивный зал
END:VEVENT
BEGIN:VEVENT
UID:0rem@192.168.245.71:3006
SEQUENCE:0
DTSTAMP:20260426T004852Z
DTSTART:20251113T090000Z
DTEND:20251113T104000Z
SUMMARY:Микроэкономика
LOCATION:DL Дистанционно
END:VEVENT
BEGIN:VEVENT
UID:aulz@192.168.245.71:3006
SEQUENCE:0
DTSTAMP:20260426T004852Z
DTSTART:20251113T110000Z
DTEND:20251113T124000Z
SUMMARY:Высшая математика
LOCATION:DL Дистанционно
END:VEVENT
BEGIN:VEVENT
UID:c1ot@192.168.245.71:3006
SEQUENCE:0
DTSTAMP:20260426T004852Z
DTSTART:20251113T130000Z
DTEND:20251113T144000Z
SUMMARY:Введение в профессиональную деятельность
LOCATION:DL Дистанционно
END:VEVENT
BEGIN:VEVENT
UID:ovp5@192.168.245.71:3006
SEQUENCE:0
DTSTAMP:20260426T004852Z
DTSTART:20251115T070000Z
DTEND:20251115T084000Z
SUMMARY:Основы цифровых технологий
LOCATION:DL Дистанционно
END:VEVENT
END:VCALENDAR