BEGIN:VCALENDAR
VERSION:2.0
PRODID:-//spbstu.ru//ical//RU
NAME:Расписание группы 3733801/50982
X-WR-CALNAME:Расписание группы 3733801/50982
TIMEZONE-ID:Europe/Moscow
X-WR-TIMEZONE:Europe/Moscow
BEGIN:VEVENT
UID:89xu@192.168.245.71:3006
SEQUENCE:0
DTSTAMP:20260425T120521Z
DTSTART:20251208T070000Z
DTEND:20251208T084000Z
SUMMARY:Элективная физическая культура и спорт
LOCATION:СК Спортивный зал
END:VEVENT
BEGIN:VEVENT
UID:vlnl@192.168.245.71:3006
SEQUENCE:0
DTSTAMP:20260425T120521Z
DTSTART:20251208T130000Z
DTEND:20251208T144000Z
SUMMARY:Основы российской государственности
LOCATION:50 уч.к 1112
END:VEVENT
BEGIN:VEVENT
UID:8qie@192.168.245.71:3006
SEQUENCE:0
DTSTAMP:20260425T120521Z
DTSTART:20251209T090000Z
DTEND:20251209T104000Z
SUMMARY:Введение в экономическую теорию
LOCATION:DL Дистанционно
END:VEVENT
BEGIN:VEVENT
UID:nqgo@192.168.245.71:3006
SEQUENCE:0
DTSTAMP:20260425T120521Z
DTSTART:20251211T090000Z
DTEND:20251211T104000Z
SUMMARY:Микроэкономика
LOCATION:DL Дистанционно
END:VEVENT
BEGIN:VEVENT
UID:hlbz@192.168.245.71:3006
SEQUENCE:0
DTSTAMP:20260425T120521Z
DTSTART:20251211T110000Z
DTEND:20251211T124000Z
SUMMARY:Высшая математика
LOCATION:DL Дистанционно
END:VEVENT
BEGIN:VEVENT
UID:soas@192.168.245.71:3006
SEQUENCE:0
DTSTAMP:20260425T120521Z
DTSTART:20251213T070000Z
DTEND:20251213T084000Z
SUMMARY:Основы цифровых технологий
LOCATION:DL Дистанционно
END:VEVENT
END:VCALENDAR