BEGIN:VCALENDAR
VERSION:2.0
PRODID:-//spbstu.ru//ical//RU
NAME:Расписание группы 3733802/50001
X-WR-CALNAME:Расписание группы 3733802/50001
TIMEZONE-ID:Europe/Moscow
X-WR-TIMEZONE:Europe/Moscow
BEGIN:VEVENT
UID:an0f@192.168.245.71:3006
SEQUENCE:0
DTSTAMP:20260423T173439Z
DTSTART:20260504T070000Z
DTEND:20260504T084000Z
SUMMARY:Цифровые средства обработки данных
LOCATION:50 уч.к 1101
END:VEVENT
BEGIN:VEVENT
UID:cd1o@192.168.245.71:3006
SEQUENCE:0
DTSTAMP:20260423T173439Z
DTSTART:20260504T090000Z
DTEND:20260504T104000Z
SUMMARY:История России
LOCATION:50 уч.к 1116
END:VEVENT
BEGIN:VEVENT
UID:0h4c@192.168.245.71:3006
SEQUENCE:0
DTSTAMP:20260423T173439Z
DTSTART:20260504T110000Z
DTEND:20260504T124000Z
SUMMARY:Экономика предприятия
LOCATION:50 уч.к 1250
END:VEVENT
BEGIN:VEVENT
UID:a0si@192.168.245.71:3006
SEQUENCE:0
DTSTAMP:20260423T173439Z
DTSTART:20260504T130000Z
DTEND:20260504T144000Z
SUMMARY:Основы государственной регламентации деятельности организации
LOCATION:50 уч.к 1217
END:VEVENT
BEGIN:VEVENT
UID:v6e8@192.168.245.71:3006
SEQUENCE:0
DTSTAMP:20260423T173439Z
DTSTART:20260505T050000Z
DTEND:20260505T064000Z
SUMMARY:Элективная  физическая культура и спорт
LOCATION:СК Спортивный зал
END:VEVENT
BEGIN:VEVENT
UID:a6rx@192.168.245.71:3006
SEQUENCE:0
DTSTAMP:20260423T173439Z
DTSTART:20260505T090000Z
DTEND:20260505T104000Z
SUMMARY:Экономика предприятия
LOCATION:ГЗ 235
END:VEVENT
BEGIN:VEVENT
UID:l5cv@192.168.245.71:3006
SEQUENCE:0
DTSTAMP:20260423T173439Z
DTSTART:20260508T050000Z
DTEND:20260508T064000Z
SUMMARY:Иностранный язык: Базовый курс
LOCATION:16 к. 401
END:VEVENT
BEGIN:VEVENT
UID:sp81@192.168.245.71:3006
SEQUENCE:0
DTSTAMP:20260423T173439Z
DTSTART:20260508T070000Z
DTEND:20260508T084000Z
SUMMARY:Элективная  физическая культура и спорт
LOCATION:СК Спортивный зал
END:VEVENT
BEGIN:VEVENT
UID:vg7d@192.168.245.71:3006
SEQUENCE:0
DTSTAMP:20260423T173439Z
DTSTART:20260508T090000Z
DTEND:20260508T104000Z
SUMMARY:Высшая математика
LOCATION:ГЗ 226
END:VEVENT
BEGIN:VEVENT
UID:q2pl@192.168.245.71:3006
SEQUENCE:0
DTSTAMP:20260423T173439Z
DTSTART:20260508T110000Z
DTEND:20260508T124000Z
SUMMARY:Высшая математика
LOCATION:ГЗ 226
END:VEVENT
END:VCALENDAR