BEGIN:VCALENDAR
VERSION:2.0
PRODID:-//spbstu.ru//ical//RU
NAME:Расписание группы 3733802/50005
X-WR-CALNAME:Расписание группы 3733802/50005
TIMEZONE-ID:Europe/Moscow
X-WR-TIMEZONE:Europe/Moscow
BEGIN:VEVENT
UID:stmi@192.168.245.71:3006
SEQUENCE:0
DTSTAMP:20260421T155806Z
DTSTART:20260428T070000Z
DTEND:20260428T084000Z
SUMMARY:Макроэкономика
LOCATION:16 к. 400
END:VEVENT
BEGIN:VEVENT
UID:xni0@192.168.245.71:3006
SEQUENCE:0
DTSTAMP:20260421T155806Z
DTSTART:20260428T090000Z
DTEND:20260428T104000Z
SUMMARY:История России
LOCATION:ГЗ 235
END:VEVENT
BEGIN:VEVENT
UID:t4ce@192.168.245.71:3006
SEQUENCE:0
DTSTAMP:20260421T155806Z
DTSTART:20260429T090000Z
DTEND:20260429T104000Z
SUMMARY:Высшая математика
LOCATION:50 уч.к 1242
END:VEVENT
BEGIN:VEVENT
UID:9quk@192.168.245.71:3006
SEQUENCE:0
DTSTAMP:20260421T155806Z
DTSTART:20260429T110000Z
DTEND:20260429T124000Z
SUMMARY:История России
LOCATION:50 уч.к 1248
END:VEVENT
BEGIN:VEVENT
UID:u80d@192.168.245.71:3006
SEQUENCE:0
DTSTAMP:20260421T155806Z
DTSTART:20260429T130000Z
DTEND:20260429T144000Z
SUMMARY:Экономика предприятия
LOCATION:50 уч.к 1116
END:VEVENT
BEGIN:VEVENT
UID:emf5@192.168.245.71:3006
SEQUENCE:0
DTSTAMP:20260421T155806Z
DTSTART:20260429T150000Z
DTEND:20260429T180000Z
SUMMARY:Иностранный язык: Русский язык как иностранный
LOCATION:50 уч.к 1319
END:VEVENT
BEGIN:VEVENT
UID:iwfn@192.168.245.71:3006
SEQUENCE:0
DTSTAMP:20260421T155806Z
DTSTART:20260430T070000Z
DTEND:20260430T084000Z
SUMMARY:Цифровые средства обработки данных
LOCATION:50 уч.к 1210
END:VEVENT
BEGIN:VEVENT
UID:vu5i@192.168.245.71:3006
SEQUENCE:0
DTSTAMP:20260421T155806Z
DTSTART:20260430T090000Z
DTEND:20260430T104000Z
SUMMARY:Основы государственной регламентации деятельности организации
LOCATION:50 уч.к 1248
END:VEVENT
BEGIN:VEVENT
UID:7w4d@192.168.245.71:3006
SEQUENCE:0
DTSTAMP:20260421T155806Z
DTSTART:20260502T070000Z
DTEND:20260502T084000Z
SUMMARY:Высшая математика
LOCATION:DL Дистанционно
END:VEVENT
BEGIN:VEVENT
UID:3x3l@192.168.245.71:3006
SEQUENCE:0
DTSTAMP:20260421T155806Z
DTSTART:20260502T090000Z
DTEND:20260502T104000Z
SUMMARY:Высшая математика
LOCATION:DL Дистанционно
END:VEVENT
BEGIN:VEVENT
UID:gw8e@192.168.245.71:3006
SEQUENCE:0
DTSTAMP:20260421T155806Z
DTSTART:20260502T110000Z
DTEND:20260502T124000Z
SUMMARY:Макроэкономика
LOCATION:DL Дистанционно
END:VEVENT
END:VCALENDAR