BEGIN:VCALENDAR
VERSION:2.0
PRODID:-//spbstu.ru//ical//RU
NAME:Расписание группы 3733802/50005
X-WR-CALNAME:Расписание группы 3733802/50005
TIMEZONE-ID:Europe/Moscow
X-WR-TIMEZONE:Europe/Moscow
BEGIN:VEVENT
UID:q0u4@192.168.245.71:3006
SEQUENCE:0
DTSTAMP:20260422T020222Z
DTSTART:20260601T110000Z
DTEND:20260601T144000Z
SUMMARY:Иностранный язык: Базовый курс
LOCATION:16 к. 403
END:VEVENT
BEGIN:VEVENT
UID:uxkf@192.168.245.71:3006
SEQUENCE:0
DTSTAMP:20260422T020222Z
DTSTART:20260603T070000Z
DTEND:20260603T094000Z
SUMMARY:Основы государственной регламентации деятельности организации
LOCATION:50 уч.к 1248
END:VEVENT
BEGIN:VEVENT
UID:rtel@192.168.245.71:3006
SEQUENCE:0
DTSTAMP:20260422T020222Z
DTSTART:20260604T070000Z
DTEND:20260604T084000Z
SUMMARY:Макроэкономика
LOCATION:50 уч.к 1338
END:VEVENT
BEGIN:VEVENT
UID:bl2f@192.168.245.71:3006
SEQUENCE:0
DTSTAMP:20260422T020222Z
DTSTART:20260605T070000Z
DTEND:20260605T084000Z
SUMMARY:Экономика предприятия
LOCATION:50 уч.к 1210
END:VEVENT
END:VCALENDAR