BEGIN:VCALENDAR
VERSION:2.0
PRODID:-//spbstu.ru//ical//RU
NAME:Расписание группы 3733802/50007
X-WR-CALNAME:Расписание группы 3733802/50007
TIMEZONE-ID:Europe/Moscow
X-WR-TIMEZONE:Europe/Moscow
BEGIN:VEVENT
UID:92bn@192.168.245.71:3006
SEQUENCE:0
DTSTAMP:20260422T192613Z
DTSTART:20260331T050000Z
DTEND:20260331T064000Z
SUMMARY:Элективная  физическая культура и спорт
LOCATION:СК Спортивный зал
END:VEVENT
BEGIN:VEVENT
UID:z0o9@192.168.245.71:3006
SEQUENCE:0
DTSTAMP:20260422T192613Z
DTSTART:20260331T070000Z
DTEND:20260331T084000Z
SUMMARY:Макроэкономика
LOCATION:16 к. 400
END:VEVENT
BEGIN:VEVENT
UID:t8bn@192.168.245.71:3006
SEQUENCE:0
DTSTAMP:20260422T192613Z
DTSTART:20260331T090000Z
DTEND:20260331T104000Z
SUMMARY:История России
LOCATION:ГЗ 235
END:VEVENT
BEGIN:VEVENT
UID:bp1f@192.168.245.71:3006
SEQUENCE:0
DTSTAMP:20260422T192613Z
DTSTART:20260401T070000Z
DTEND:20260401T084000Z
SUMMARY:Концепции современного естествознания
LOCATION:50 уч.к 1323
END:VEVENT
BEGIN:VEVENT
UID:nxwq@192.168.245.71:3006
SEQUENCE:0
DTSTAMP:20260422T192613Z
DTSTART:20260401T090000Z
DTEND:20260401T104000Z
SUMMARY:Высшая математика
LOCATION:50 уч.к 1242
END:VEVENT
BEGIN:VEVENT
UID:cksd@192.168.245.71:3006
SEQUENCE:0
DTSTAMP:20260422T192613Z
DTSTART:20260401T110000Z
DTEND:20260401T124000Z
SUMMARY:Высшая математика
LOCATION:50 уч.к 1234
END:VEVENT
BEGIN:VEVENT
UID:4wpz@192.168.245.71:3006
SEQUENCE:0
DTSTAMP:20260422T192613Z
DTSTART:20260401T130000Z
DTEND:20260401T144000Z
SUMMARY:История России
LOCATION:50 уч.к 1248
END:VEVENT
BEGIN:VEVENT
UID:o0wq@192.168.245.71:3006
SEQUENCE:0
DTSTAMP:20260422T192613Z
DTSTART:20260401T150000Z
DTEND:20260401T164000Z
SUMMARY:Высшая математика
LOCATION:50 уч.к 1323
END:VEVENT
BEGIN:VEVENT
UID:oeqj@192.168.245.71:3006
SEQUENCE:0
DTSTAMP:20260422T192613Z
DTSTART:20260402T070000Z
DTEND:20260402T084000Z
SUMMARY:Макроэкономика
LOCATION:50 уч.к 1239
END:VEVENT
BEGIN:VEVENT
UID:q28y@192.168.245.71:3006
SEQUENCE:0
DTSTAMP:20260422T192613Z
DTSTART:20260402T090000Z
DTEND:20260402T104000Z
SUMMARY:Экономика предприятия
LOCATION:50 уч.к 1116
END:VEVENT
BEGIN:VEVENT
UID:zisx@192.168.245.71:3006
SEQUENCE:0
DTSTAMP:20260422T192613Z
DTSTART:20260402T110000Z
DTEND:20260402T124000Z
SUMMARY:Цифровые средства обработки данных
LOCATION:50 уч.к 1110
END:VEVENT
BEGIN:VEVENT
UID:mi4n@192.168.245.71:3006
SEQUENCE:0
DTSTAMP:20260422T192613Z
DTSTART:20260402T130000Z
DTEND:20260402T144000Z
SUMMARY:Цифровые средства обработки данных
LOCATION:50 уч.к 1110
END:VEVENT
BEGIN:VEVENT
UID:kmp2@192.168.245.71:3006
SEQUENCE:0
DTSTAMP:20260422T192613Z
DTSTART:20260403T050000Z
DTEND:20260403T064000Z
SUMMARY:Иностранный язык: Базовый курс
LOCATION:16 к. 403
END:VEVENT
BEGIN:VEVENT
UID:ol1c@192.168.245.71:3006
SEQUENCE:0
DTSTAMP:20260422T192613Z
DTSTART:20260403T070000Z
DTEND:20260403T084000Z
SUMMARY:Элективная  физическая культура и спорт
LOCATION:СК Спортивный зал
END:VEVENT
BEGIN:VEVENT
UID:n4ne@192.168.245.71:3006
SEQUENCE:0
DTSTAMP:20260422T192613Z
DTSTART:20260403T090000Z
DTEND:20260403T104000Z
SUMMARY:Цифровые средства обработки данных
LOCATION:ГЗ 235
END:VEVENT
BEGIN:VEVENT
UID:2h24@192.168.245.71:3006
SEQUENCE:0
DTSTAMP:20260422T192613Z
DTSTART:20260404T060000Z
DTEND:20260404T090000Z
SUMMARY:Элективная  физическая культура и спорт
LOCATION:СК Спортивный зал
END:VEVENT
END:VCALENDAR